BEGIN:VCALENDAR
VERSION:2.0
PRODID:-//wp-events-plugin.com//7.2.3.1//EN
TZID:America/Detroit
X-WR-TIMEZONE:America/Detroit
BEGIN:VEVENT
UID:35159@arabamerica.com
DTSTART;TZID=America/New_York:20250925T180000
DTEND;TZID=America/New_York:20250925T200000
DTSTAMP:20250924T191728Z
URL:https://www.arabamerica.com/events/no-to-war-against-humanity-from-ven
 ezuela-to-palestine/
SUMMARY:NO to WAR AGAINST HUMANITY! - From Venezuela to Palestine
DESCRIPTION:NEW YORK\, NY\n\nJoin us at The Riverside Church for a powerf
 ul event to stand up against violence and conflict. Let's unite to spread 
 love\, peace\, and understanding in our community. Together\, we can make 
 a difference and say NO to any form of war that threatens humanity. Don't 
 miss this opportunity to be part of a movement for positive change!\n\nPle
 ase join us and be seated by 6:00 PM so we can begin promptly. Thank you
 .\n\nPre-Registration REQUIRED. Donations requested.\n$25 Solidaity\n$10 S
 tudent &amp\; fixed income\n\n*No one will be turned away on funds\, but r
 egistration is required\n\n**Refunds are available upon request.\n\nORGANI
 ZATIONAL ENDORSEMENTS:\n\n 	Alberto Lovera Bolivarian Circle NYC\n 	All Af
 rican Peoples Revolutionary Party\n 	Americas Without Sanctions\n 	Antiwar
  Action Network\n 	Arm The Dollz\n 	Bayan\n 	Bolivarian Circle\n 	Bronx An
 tiwar\n 	Code Pink\n 	Cuba Si\n 	December 12 Movement\n 	Freedom Road Soci
 alist Organization\n 	International Action Center\n 	Jazz Against Genocide
 \n 	Nicaragua Solidarity Coalition\n 	Popular Resistance\n 	SanctionsKill 
 Campaign\n 	United National Antiwar Coalition\n 	U.S. Palestinian Communit
 y Network\n 	U.S. Peace Council\n 	Venceramos Brigade\n 	Venezuela Solidar
 ity\n 	Workers World Party\n\nFor more info contact antiwaractionnetwork@
 gmail.com or call: 929-377-3871
ATTACH;FMTTYPE=image/jpeg:https://www.arabamerica.com/wp-content/uploads/2
 025/09/Screen-Shot-2025-09-24-at-3.17.45-PM.png
LOCATION:The Riverside Church\, 490 Riverside Drive\, New York\, New York\,
  United States
GEO:40.8117798;-73.9630022
X-APPLE-STRUCTURED-LOCATION;VALUE=URI;X-ADDRESS=490 Riverside Drive\, New Y
 ork\, New York\, United States;X-APPLE-RADIUS=100;X-TITLE=The Riverside Ch
 urch:geo:40.8117798,-73.9630022
END:VEVENT
BEGIN:VTIMEZONE
TZID:America/New_York
X-LIC-LOCATION:America/New_York
BEGIN:DAYLIGHT
DTSTART:20250309T030000
TZOFFSETFROM:-0500
TZOFFSETTO:-0400
TZNAME:EDT
END:DAYLIGHT
END:VTIMEZONE
END:VCALENDAR