BEGIN:VCALENDAR
VERSION:2.0
PRODID:-//wp-events-plugin.com//7.2.3.1//EN
TZID:America/Detroit
X-WR-TIMEZONE:America/Detroit
BEGIN:VEVENT
UID:35559@arabamerica.com
DTSTART;TZID=America/Los_Angeles:20251219T200000
DTEND;TZID=America/Los_Angeles:20251219T234500
DTSTAMP:20251216T071521Z
URL:https://www.arabamerica.com/events/nomadz-habibi-holidays/
SUMMARY:Nomadz - Habibi Holidays
DESCRIPTION:\nJoin us for a night of music\, dancing\, vendors and holiday 
 spirit.\n\n\n\n\nNomadz is popping up at @offthegridsf for a special Holid
 ay takeover! &#x1f384\;&#x2728\;\n\nMark your calendars:\n\n&#x1f5d3\; Dec
 ember 19 at 8PM–12AM\n\n&#x1f4cd\; Union Square Pop-Up — 111 Powell St
 \n\nExpect global beats all night — Arabic dance music\, Latin house\, a
 nd Afrobeat — plus amazing vendors and holiday energy in the heart of th
 e city. &#x1f483\;&#x1f6cd\;&#xfe0f\;&#x1f30d\;\n\nLet’s celebrate cultu
 re\, community\, and the season together!\n\n\nNote - 21+\n\n
ATTACH;FMTTYPE=image/jpeg:https://www.arabamerica.com/wp-content/uploads/2
 025/12/Screenshot-2025-12-15-at-11.19.30-PM.png
CATEGORIES:Arab American,Community
LOCATION:Nomadz\, 111 Powell St\, San Francisco\, California\, 94102\, Unit
 ed States
GEO:37.785864;-122.40819
X-APPLE-STRUCTURED-LOCATION;VALUE=URI;X-ADDRESS=111 Powell St\, San Francis
 co\, California\, 94102\, United States;X-APPLE-RADIUS=100;X-TITLE=Nomadz:
 geo:37.785864,-122.40819
END:VEVENT
BEGIN:VTIMEZONE
TZID:America/Los_Angeles
X-LIC-LOCATION:America/Los_Angeles
BEGIN:STANDARD
DTSTART:20251102T010000
TZOFFSETFROM:-0700
TZOFFSETTO:-0800
TZNAME:PST
END:STANDARD
END:VTIMEZONE
END:VCALENDAR