BEGIN:VCALENDAR
VERSION:2.0
PRODID:-//wp-events-plugin.com//7.2.3.1//EN
TZID:America/Detroit
X-WR-TIMEZONE:America/Detroit
BEGIN:VEVENT
UID:34920@arabamerica.com
DTSTART;TZID=America/Los_Angeles:20250824T150000
DTEND;TZID=America/Los_Angeles:20250824T200000
DTSTAMP:20250805T215731Z
URL:https://www.arabamerica.com/events/nomadz-rooftop-party-2/
SUMMARY:NOMADZ - Rooftop Party
DESCRIPTION:SAN FRANCISCO\, CA\n\n&nbsp\;\n\nNomadz is back and on a roofto
 p!! Come dance to house music mixed with Middle Eastern\, Afro and global 
 hits!\n\nNomadz is the Bay Area’s premier Arab party\, blending the best
  of Arabic\, South Asian\, North African\, and global hits. Join us for an
  epic rooftop experience with amazing music and breath taking views!\n\nDo
 n’t miss your chance to dance on top of the city to your favorite tracks
  — this is the party everyone will be talking about!\n\nGet Tickets Here
ATTACH;FMTTYPE=image/jpeg:https://www.arabamerica.com/wp-content/uploads/2
 025/08/Screenshot-2025-08-05-at-5.53.31-PM.png
CATEGORIES:Arab American,Community,culture
LOCATION:The Hibernia\, 1 Jones Street\, San Francisco\, California \, 9410
 2\, United States
GEO:37.781369;-122.41246
X-APPLE-STRUCTURED-LOCATION;VALUE=URI;X-ADDRESS=1 Jones Street\, San Franci
 sco\, California \, 94102\, United States;X-APPLE-RADIUS=100;X-TITLE=The H
 ibernia:geo:37.781369,-122.41246
END:VEVENT
BEGIN:VTIMEZONE
TZID:America/Los_Angeles
X-LIC-LOCATION:America/Los_Angeles
BEGIN:DAYLIGHT
DTSTART:20250309T030000
TZOFFSETFROM:-0800
TZOFFSETTO:-0700
TZNAME:PDT
END:DAYLIGHT
END:VTIMEZONE
END:VCALENDAR