BEGIN:VCALENDAR
VERSION:2.0
PRODID:-//wp-events-plugin.com//7.2.3.1//EN
TZID:America/Detroit
X-WR-TIMEZONE:America/Detroit
BEGIN:VEVENT
UID:34272@arabamerica.com
DTSTART;TZID=America/Detroit:20250412T150000
DTEND;TZID=America/Detroit:20250412T200000
DTSTAMP:20250407T054736Z
URL:https://www.arabamerica.com/events/nomadz/
SUMMARY:NOMADZ
DESCRIPTION:SAN FRANSISCO\, CA\n\n\n\nAges 21+\n\n\n\n\n\nJoin us for our s
 econd Nomadz. A day filled with DJ's belly dancers and community. Featurin
 g food from Beit Rima and other vendors!\n\n\nThis event will showcase tal
 ented DJs : Caledru\, DJ Ahmed\, Amal and Haboob. As well as belly dancing
  from the beatiful Sultana. There will be food from Beit Rima and other ve
 ndors as well!!! It's a day you won't want to miss!!!!\n\n
ATTACH;FMTTYPE=image/jpeg:https://www.arabamerica.com/wp-content/uploads/2
 025/04/Screenshot-2025-04-07-at-1.54.54 AM.png
LOCATION:El Rio\, 3158 Mission Street\, San Francisco \, CA\, United States
GEO:37.746805;-122.41944
X-APPLE-STRUCTURED-LOCATION;VALUE=URI;X-ADDRESS=3158 Mission Street\, San F
 rancisco \, CA\, United States;X-APPLE-RADIUS=100;X-TITLE=El Rio:geo:37.74
 6805,-122.41944
END:VEVENT
BEGIN:VTIMEZONE
TZID:America/Detroit
X-LIC-LOCATION:America/Detroit
BEGIN:DAYLIGHT
DTSTART:20250309T030000
TZOFFSETFROM:-0500
TZOFFSETTO:-0400
TZNAME:EDT
END:DAYLIGHT
END:VTIMEZONE
END:VCALENDAR