BEGIN:VCALENDAR
VERSION:2.0
PRODID:-//wp-events-plugin.com//7.2.3.1//EN
TZID:America/Detroit
X-WR-TIMEZONE:America/Detroit
BEGIN:VEVENT
UID:33313@arabamerica.com
DTSTART;TZID=America/Detroit:20240807T173000
DTEND;TZID=America/Detroit:20240807T190000
DTSTAMP:20240806T163926Z
URL:https://www.arabamerica.com/events/nomakc-coffee-talk-advocacy-for-arc
 hitects-palestine-spatial-apartheid-2/
SUMMARY:NOMAKC Coffee Talk - Advocacy for Architects: Palestine & Spatial A
 partheid
DESCRIPTION:KANSAS CITY\, MO\n\n\n\n\n\n\nJoin NOMAKC as we provide an over
 view of spatial apartheid\, as it relates to the ongoing displacement of t
 he Palestinian people. We will consider the responsibility we have as indi
 viduals who shape the built environment to advocate for the dismantling of
  oppressive systems - at both a global and local scale.\n\n\n\n\n\n
ATTACH;FMTTYPE=image/jpeg:https://www.arabamerica.com/wp-content/uploads/2
 024/08/temp-13.jpg
LOCATION:Multistudio\, 4200 Pennsylvania Avenue\, Kansas City\, Missouri\, 
 64111\, United States
GEO:39.050908;-94.590215
X-APPLE-STRUCTURED-LOCATION;VALUE=URI;X-ADDRESS=4200 Pennsylvania Avenue\, 
 Kansas City\, Missouri\, 64111\, United States;X-APPLE-RADIUS=100;X-TITLE=
 Multistudio:geo:39.050908,-94.590215
END:VEVENT
BEGIN:VTIMEZONE
TZID:America/Detroit
X-LIC-LOCATION:America/Detroit
BEGIN:DAYLIGHT
DTSTART:20240310T030000
TZOFFSETFROM:-0500
TZOFFSETTO:-0400
TZNAME:EDT
END:DAYLIGHT
END:VTIMEZONE
END:VCALENDAR