BEGIN:VCALENDAR
VERSION:2.0
PRODID:-//wp-events-plugin.com//7.2.3.1//EN
TZID:America/Detroit
X-WR-TIMEZONE:America/Detroit
BEGIN:VEVENT
UID:33372@arabamerica.com
DTSTART;TZID=America/Detroit:20240928T210000
DTEND;TZID=America/Detroit:20240929T020000
DTSTAMP:20240820T194427Z
URL:https://www.arabamerica.com/events/noor-al-zain-in-texas-%d9%86%d9%88%
 d8%b1-%d8%a7%d9%84%d8%b2%d9%8a%d9%86-%d9%81%d9%8a-%d8%aa%d9%83%d8%b3%d8%a7
 %d8%b3/
SUMMARY:Noor Al Zain in Texas | نور الزين في تكساس
DESCRIPTION:\n\n\nRichardson\, TX\n\n\n\n&nbsp\;\n\n\n\n&nbsp\;\n\n\n\nNay 
 Events proudly presents an exclusive evening with the superstar Noor Al Za
 in in Dallas\, Texas\, on September 28. Join us at the luxurious Hilton Ri
 chardson Dallas for an unforgettable night filled with sensational music a
 nd exceptional entertainment. Tickets start at $175\, including dinner. Do
 ors open at 9 PM. Don't miss out on this spectacular event! Buy your ticke
 ts online at nooralzain.eventbrite.com. For more information\, call Dallas
 : 817.944.6151 or Houston: 832.468.2257.\n\n\n
ATTACH;FMTTYPE=image/jpeg:https://www.arabamerica.com/wp-content/uploads/2
 024/08/Screenshot-2024-08-20-at-12.37.14 PM.png
LOCATION:Hilton Richardson Dallas\, 701 E Campbell Rd\, Richardson\, United
  States
GEO:32.976744;-96.714031
X-APPLE-STRUCTURED-LOCATION;VALUE=URI;X-ADDRESS=701 E Campbell Rd\, Richard
 son\, United States;X-APPLE-RADIUS=100;X-TITLE=Hilton Richardson Dallas:ge
 o:32.976744,-96.714031
END:VEVENT
BEGIN:VTIMEZONE
TZID:America/Detroit
X-LIC-LOCATION:America/Detroit
BEGIN:DAYLIGHT
DTSTART:20240310T030000
TZOFFSETFROM:-0500
TZOFFSETTO:-0400
TZNAME:EDT
END:DAYLIGHT
END:VTIMEZONE
END:VCALENDAR