BEGIN:VCALENDAR
VERSION:2.0
PRODID:-//wp-events-plugin.com//7.2.3.1//EN
TZID:America/Detroit
X-WR-TIMEZONE:America/Detroit
BEGIN:VEVENT
UID:35327@arabamerica.com
DTSTART;TZID=America/Detroit:20251123T163000
DTEND;TZID=America/Detroit:20251123T200000
DTSTAMP:20251029T000032Z
URL:https://www.arabamerica.com/events/north-african-memoir-2/
SUMMARY:North African Memoir
DESCRIPTION:\n\nOverview\n\n\n\n\n\nJoin TLP for a walk back through some o
 f our favorite dishes inspired by our visits to Morocco\, Egypt and Israel
 .\n\n\n\n\nEnjoy a playful and memorable meal created with dishes from and
  inspired by our visits to North Africa and the Middle East. Experience di
 fferent preparations\, exotic spices and seasonings and dishes rich in fla
 vor and history in a menu created by Jeff and executed by Chef Phil and th
 e team. Mandy and Missy collaborate on a thoughful and playful drink pairi
 ng menu package available seperately or a la carte. Jeff will give you a s
 tory here and there and the thoughts behind each course as it is served.\n
 \nThe planned 5-course menu includes greeting cocktail (zero proof upon re
 quest)\, Harira Soup | Pickles &amp\; Salad with Fresh Pita (Local Vegetab
 les) | No ‘Pigeon’ Pie (Ebra Verde Chicken) | Shabbat Beef Brisket (Be
 lleview Farm Beef)| Mahalabia Crème Brulé Rice Pudding. Menu subject to 
 change due to availability of product or local conditions.\n\n\n\n\n\n
LOCATION:This Little Pig\, 10651 Main St Buffalo\, Buffalo\, NY\, 14031\, U
 nited States
GEO:42.98045;-78.590845
X-APPLE-STRUCTURED-LOCATION;VALUE=URI;X-ADDRESS=10651 Main St Buffalo\, Buf
 falo\, NY\, 14031\, United States;X-APPLE-RADIUS=100;X-TITLE=This Little P
 ig:geo:42.98045,-78.590845
END:VEVENT
BEGIN:VTIMEZONE
TZID:America/Detroit
X-LIC-LOCATION:America/Detroit
BEGIN:STANDARD
DTSTART:20251102T010000
TZOFFSETFROM:-0400
TZOFFSETTO:-0500
TZNAME:EST
END:STANDARD
END:VTIMEZONE
END:VCALENDAR