BEGIN:VCALENDAR
VERSION:2.0
PRODID:-//wp-events-plugin.com//7.2.3.1//EN
TZID:America/Detroit
X-WR-TIMEZONE:America/Detroit
BEGIN:VEVENT
UID:35595@arabamerica.com
DTSTART;TZID=America/Los_Angeles:20260221T171500
DTEND;TZID=America/Los_Angeles:20260221T203000
DTSTAMP:20251217T024359Z
URL:https://www.arabamerica.com/events/north-lynnwood-iftar-dinner-for-chr
 istians-and-muslims/
SUMMARY:North Lynnwood Iftar dinner for Christians and Muslims
DESCRIPTION:A dinner for Christians and Muslims to make friends and have me
 aningful conversation about life's biggest questions.\nChristianity and Is
 lam are the world's biggest ideas and it is important that we have meaning
 ful conversations and real friendships with one another.
ATTACH;FMTTYPE=image/jpeg:https://www.arabamerica.com/wp-content/uploads/2
 025/12/https___cdn.evbuc_.com_images_1173020201_297380377295_1_original.jp
 g
CATEGORIES:Christian,free,Iftar,Iftar Dinner,Muslim,Muslim community
LOCATION:Renew Church Lynnwood\, 2721 164th Street Southwest\, Lynnwood\, W
 A\, 98087\, United States
GEO:47.850473;-122.270792
X-APPLE-STRUCTURED-LOCATION;VALUE=URI;X-ADDRESS=2721 164th Street Southwest
 \, Lynnwood\, WA\, 98087\, United States;X-APPLE-RADIUS=100;X-TITLE=Renew 
 Church Lynnwood:geo:47.850473,-122.270792
END:VEVENT
BEGIN:VTIMEZONE
TZID:America/Los_Angeles
X-LIC-LOCATION:America/Los_Angeles
BEGIN:STANDARD
DTSTART:20251102T010000
TZOFFSETFROM:-0700
TZOFFSETTO:-0800
TZNAME:PST
END:STANDARD
END:VTIMEZONE
END:VCALENDAR