BEGIN:VCALENDAR
VERSION:2.0
PRODID:-//wp-events-plugin.com//7.2.3.1//EN
TZID:America/Detroit
X-WR-TIMEZONE:America/Detroit
BEGIN:VEVENT
UID:35376@arabamerica.com
DTSTART;TZID=America/New_York:20251107T090000
DTEND;TZID=America/New_York:20251109T190000
DTSTAMP:20251105T073554Z
URL:https://www.arabamerica.com/events/northeast-regional-model-arab-leagu
 e-2025/
SUMMARY:Northeast Regional Model Arab League 2025
DESCRIPTION:BOSTON\, MA\n\nThe Northeast Regional Model Arab League is set 
 to take place at Northeastern University in Boston\, Massachusetts\, from 
 November 7 to November 9\, 2025. This prestigious event gathers students f
 rom various institutions to engage in a dynamic simulation of the Arab Lea
 gue\, where participants assume the roles of delegates from member states.
  Attendees will have the opportunity to develop their diplomatic skills\, 
 enhance their understanding of Middle Eastern politics\, and collaborate w
 ith peers on pressing regional issues.
LOCATION:Northeastern University\, 360 Huntington Ave\, Boston\, MA\, Unite
 d States
GEO:42.3395225;-71.08789969999998
X-APPLE-STRUCTURED-LOCATION;VALUE=URI;X-ADDRESS=360 Huntington Ave\, Boston
 \, MA\, United States;X-APPLE-RADIUS=100;X-TITLE=Northeastern University:g
 eo:42.3395225,-71.08789969999998
END:VEVENT
BEGIN:VTIMEZONE
TZID:America/New_York
X-LIC-LOCATION:America/New_York
BEGIN:STANDARD
DTSTART:20251102T010000
TZOFFSETFROM:-0400
TZOFFSETTO:-0500
TZNAME:EST
END:STANDARD
END:VTIMEZONE
END:VCALENDAR