BEGIN:VCALENDAR
VERSION:2.0
PRODID:-//wp-events-plugin.com//7.2.3.1//EN
TZID:America/Detroit
X-WR-TIMEZONE:America/Detroit
BEGIN:VEVENT
UID:35245@arabamerica.com
DTSTART;TZID=America/Los_Angeles:20251108T220000
DTEND;TZID=America/Los_Angeles:20251109T020000
DTSTAMP:20251014T143756Z
URL:https://www.arabamerica.com/events/nov-8-hafla-azizam-nightclub-party-
 mountain-view/
SUMMARY:NOV 8 | HAFLA AZIZAM | NIGHTCLUB PARTY | MOUNTAIN VIEW
DESCRIPTION:\n\n\nBay Area’s Top Nightclub Party ! Turkish\, Arabic\, Per
 sian songs\, Global Remixes &amp\; Trending TikTok mixes. Hookah is availa
 ble.\n\n\n\n\n\n\n\n\n\nDate and time\n\n\n\n\n\nNovember 8 · 10pm - Nove
 mber 9 · 2am PST. Doors at 9:45pm\n\n\n\n\n\n\n\n\n\n\n\n\n\n\nLocation\
 n\n\n\nOpal Social Club\n\n251 Castro Street Mountain View\, CA 94041\nGet
  directions\n\n\n\n\n\n\n\n\n\n\n\nGood to know\n\n\n\n\n\nHighlights\n\n\
 n\n 	4 hours\n 	ages 21+\n 	In person\n 	Free parking\n 	Doors at 9:45 PM\
 n\n\n\n\n\n\n\nRefund Policy\n\nNo refunds\n\n\n\n\n\n\n\n\n\n\n\n\nAbout 
 this event\n\nOther\n\n\n\n\n\n\nThe DJs will take you on an unforgettable
  journey with the hottest Middle Eastern hits\, Afrohouse\, Arabic remixes
 \, Turkish\, Arabic\, Persian \, and trending TikTok tracks. Live Darbuka 
 and Tabla performances set the rhythm\, while professional belly dancers a
 dd a mesmerizing\, high-energy touch. Experience the ultimate Middle Easte
 rn nightlife in style—this is a party you won’t want to miss.\n\nAge R
 estriction: 21+ &#x1f6d1\; (Valid State-issued ID/Driver License or Passp
 ort required\; no photocopies or digital IDs. Club strictly enforces this)
 \n\nNO REFUNDS\n\n\n\n\n\n\n\n\n\n\n\n\n\nWhat to Expect:\n\n 	An immersiv
 e Middle Eastern music\, belly dancers\, and much more.\n 	Curated beats b
 lending Arabic hits\, Afrohouse\, global remixes\, and viral TikTok tunes.
 \n 	Live percussion with Darbuka and Tabla\, accompanied by captivating be
 lly dance performances.\n 	A sophisticated\, upscale ambiance perfect for 
 dancing\, socializing\, and making memories.\n 	An opportunity to connect 
 with fellow music lovers and experience the Bay Area’s most talked-about
  Middle Eastern event.\n\n1. Upscale &amp\; Elegant:\nSet in an upscale Mo
 untain View nightclub\, the venue boasts state-of-the-art sound\, dazzling
  lights\, and a chic ambiance designed for unforgettable nights.\n\n2. Vib
 rant &amp\; Immersive:\nOur Mountain View venue features a spacious dance 
 floor\, premium lighting\, and immersive sound—perfect for music\, dance
 \, and high-energy vibes.\n\n3. Luxe &amp\; Social:\nLocated in the heart 
 of Mountain View\, this stylish nightclub offers VIP seating\, modern déc
 or\, and an electrifying atmosphere that keeps the party alive.\n\n\n\nLOO
 KING FOR VIP TABLE? (HOOKAH OR BOTTLE SERVICE)\nEnjoy an exclusive Lit VIP
  experience with benefits such as fast entry\, guaranteed table seating\, 
 cover for up to 5 people\, a dedicated VIP area\, and mixers for your drin
 ks.\nDM US ON IG TO RESERVE IT (CLICK HERE AND DM)\nMUST READ BELOW---Impo
 rtant---MUST READ BELOW\n\nDisclaimer:\n\n 	NO REFUND POLICY----- Pls dont
  dm for refunds or request on eventbrite.\n 	Public event that will be cov
 ered by photographer. By entering the event premises\, you consent to inte
 rview(s)\, photography\, audio\, recording\, video recording and its/their
  release\, publication\, exhibition\, or reproduction to be used for news\
 , web casts\, promotional purposes\, telecasts\, advertising\, inclusion o
 n websites\, social media and other offline marketing purposes.\n 	Price i
 s variable and may fluctuate based on demand.\n 	As a reminder\, the dress
  code for the occasion is upscale. We kindly request that all attendees ma
 ke an effort to dress elegantly and stylishly\, adding to the overall ambi
 ance of the event.\n\n\n\n\n\n\n\n
ATTACH;FMTTYPE=image/jpeg:https://www.arabamerica.com/wp-content/uploads/2
 025/10/https___cdn.evbuc_.com_images_1152452573_2897459631821_1_original.j
 pg
CATEGORIES:nightclub,Party,San Fransisco
LOCATION:Opal Social Club\, 251 Castro Street\, Mountain View\, CA\, 94041\
 , United States
GEO:37.393109;-122.079018
X-APPLE-STRUCTURED-LOCATION;VALUE=URI;X-ADDRESS=251 Castro Street\, Mountai
 n View\, CA\, 94041\, United States;X-APPLE-RADIUS=100;X-TITLE=Opal Social
  Club:geo:37.393109,-122.079018
END:VEVENT
BEGIN:VTIMEZONE
TZID:America/Los_Angeles
X-LIC-LOCATION:America/Los_Angeles
BEGIN:STANDARD
DTSTART:20251102T010000
TZOFFSETFROM:-0700
TZOFFSETTO:-0800
TZNAME:PST
END:STANDARD
END:VTIMEZONE
END:VCALENDAR