BEGIN:VCALENDAR
VERSION:2.0
PRODID:-//wp-events-plugin.com//7.2.3.1//EN
TZID:America/Detroit
X-WR-TIMEZONE:America/Detroit
BEGIN:VEVENT
UID:34296@arabamerica.com
DTSTART;TZID=America/Detroit:20250521T193000
DTEND;TZID=America/Detroit:20250521T193000
DTSTAMP:20250413T231811Z
URL:https://www.arabamerica.com/events/ny-andalus-ensemble-spring-2025-yaa
 lat-%e1%b8%a5en-graceful-beloved/
SUMMARY:NY Andalus Ensemble - Spring 2025 "Ya'alat Ḥen" (Graceful Beloved
 )
DESCRIPTION:NEW YORK\, NY\nAn evening of music and song from al-Andalus and
  North Africa\nArtistic Director\, Samuel Torjman Thomas\, Ph.D.\n\nFor fi
 ve hundred years\, Christians\, Jews\, and Muslims lived side by side in m
 edieval Iberia\, sharing their arts and sciences to create a scintillating
 \, multicultural tradition of music and poetry. Singing in Arabic\, Hebrew
 \, and Ladino to reflect this cultural pluralism\, the New York Andalus En
 semble presents spiritual texts and songs of love and everyday life in Al-
 Andalus\, emphasizing the expressive quality of the region’s shared trad
 ition even as it respects the individual cultures that comprise it. Meticu
 lous attention is paid to authenticity of style and pronunciation as ensem
 ble members\, hailing from Algeria\, Syria\, Israel\, Morocco\, and the Un
 ited States\, pool their linguistic and musical expertise.\n“You won’t
  want to miss the chance to see such a diverse and versatile group.” —
 Spain Culture\, New York
ATTACH;FMTTYPE=image/jpeg:https://www.arabamerica.com/wp-content/uploads/2
 025/04/Screenshot-2025-04-13-at-7.24.56 PM.png
LOCATION:\, \, United States
X-APPLE-STRUCTURED-LOCATION;VALUE=URI;X-ADDRESS=\, United States;X-APPLE-RA
 DIUS=100;X-TITLE=:geo:0,0
END:VEVENT
BEGIN:VTIMEZONE
TZID:America/Detroit
X-LIC-LOCATION:America/Detroit
BEGIN:DAYLIGHT
DTSTART:20250309T030000
TZOFFSETFROM:-0500
TZOFFSETTO:-0400
TZNAME:EDT
END:DAYLIGHT
END:VTIMEZONE
END:VCALENDAR