BEGIN:VCALENDAR
VERSION:2.0
PRODID:-//wp-events-plugin.com//7.2.3.1//EN
TZID:America/Detroit
X-WR-TIMEZONE:America/Detroit
BEGIN:VEVENT
UID:34673@arabamerica.com
DTSTART;TZID=America/Detroit:20251012T070000
DTEND;TZID=America/Detroit:20251012T110000
DTSTAMP:20250625T035559Z
URL:https://www.arabamerica.com/events/nyc-gaza-5k-walk-run/
SUMMARY:NYC Gaza 5K walk/run
DESCRIPTION:BROOKLYN\, NY\n\n\n\n\n\n\n\nSAVE THE DATE!\n(Sunday\, October 
 12th in Prospect Park in Brooklyn\, NY)\nUNRWA USA is bringing our most ic
 onic event back to New York. This is your chance to provide critical psych
 osocial support to the millions impacted by the ongoing Israeli military a
 ssault on Gaza. This event includes an optional 5K walk/run\, fundraising 
 prizes\, community\, and as much Palestinian culture as we can squeeze int
 o your morning. The Gaza 5K is your chance to meet and connect with folks 
 who share your solidarity and commitment to the mental well-being of refug
 ees.\nNot in New York or prefer to participate from home? You may also cho
 ose the virtual option!\nRegistration opens soon! Save the date!\n\n\n\n\n
 \n\n\n\n\n 	Posted In: Gaza5k\n 	Tagged: gaza5k\n\n\n
ATTACH;FMTTYPE=image/jpeg:https://www.arabamerica.com/wp-content/uploads/2
 025/06/Screen-Shot-2025-06-24-at-11.54.22-PM.png
LOCATION:Prospect Park\, 95 Prospect Park \, Brooklyn\, New York\, 11215\, 
 United States
GEO:40.665531;-73.97157
X-APPLE-STRUCTURED-LOCATION;VALUE=URI;X-ADDRESS=95 Prospect Park \, Brookly
 n\, New York\, 11215\, United States;X-APPLE-RADIUS=100;X-TITLE=Prospect P
 ark:geo:40.665531,-73.97157
END:VEVENT
BEGIN:VTIMEZONE
TZID:America/Detroit
X-LIC-LOCATION:America/Detroit
BEGIN:DAYLIGHT
DTSTART:20250309T030000
TZOFFSETFROM:-0500
TZOFFSETTO:-0400
TZNAME:EDT
END:DAYLIGHT
END:VTIMEZONE
END:VCALENDAR