BEGIN:VCALENDAR
VERSION:2.0
PRODID:-//wp-events-plugin.com//7.2.3.1//EN
TZID:America/Detroit
X-WR-TIMEZONE:America/Detroit
BEGIN:VEVENT
UID:35062@arabamerica.com
DTSTART;TZID=America/New_York:20250921T160000
DTEND;TZID=America/New_York:20250921T190000
DTSTAMP:20250902T215128Z
URL:https://www.arabamerica.com/events/nyc-muslims-teach/
SUMMARY:NYC MUSLIMS TEACH
DESCRIPTION:NEW YORK\, NY\n\nEmpower. Connect. Represent. A Night for Musli
 m Educators\, by Muslim Educators (Free Food • Inspiring People • Powe
 rful Conversations)\n\nAs Muslim educators\, we carry not only the respons
 ibility of teaching but also the deep\, spiritual duty to nurture\, protec
 t\, and uplift our students. This gathering is a space for us to come toge
 ther\, breathe\, and build with one another. It’s for those of us who be
 lieve that empathy belongs in every lesson plan\, that our faith calls us 
 to care deeply\, and that our classrooms can be places of peace and resist
 ance at the same time.\n\nThis event is about building genuine community a
 mong muslim educators\, especially those who often feel alone in navigatin
 g their roles. It’s also a space to hold what's happening around the wor
 ld\, especially in Gaza\, Sudan\, and to the Uyghur Muslims\, with compass
 ion and action. We'll be raising money in support of these communities\, w
 hile also nourishing our spirits with food\, reflection\, and dua.\n\nCome
  if you're looking for connection. Come if you’re tired but hopeful. Com
 e if you believe that teaching is a form of worship. You are welcome here.
 \n\n“When a person dies\, all their deeds end except three: a continuing
  charity\, beneficial knowledge\, and a righteous child who prays for them
 .”— Sahih Muslim 1631\n\nMay our work as educators live on as benefici
 al knowledge\, and may our classrooms be places where hearts and minds are
  healed\, not just taught.\n\nGet Tickets Here
ATTACH;FMTTYPE=image/jpeg:https://www.arabamerica.com/wp-content/uploads/2
 025/09/Screenshot-2025-09-02-at-5.46.21-PM.png
LOCATION:Islamic Cultural Center of New York\, 1711 3rd Ave\, New York\, Ne
 w York\, 10029\, United States
GEO:40.7854855;-73.94858929999998
X-APPLE-STRUCTURED-LOCATION;VALUE=URI;X-ADDRESS=1711 3rd Ave\, New York\, N
 ew York\, 10029\, United States;X-APPLE-RADIUS=100;X-TITLE=Islamic Cultura
 l Center of New York:geo:40.7854855,-73.94858929999998
END:VEVENT
BEGIN:VTIMEZONE
TZID:America/New_York
X-LIC-LOCATION:America/New_York
BEGIN:DAYLIGHT
DTSTART:20250309T030000
TZOFFSETFROM:-0500
TZOFFSETTO:-0400
TZNAME:EDT
END:DAYLIGHT
END:VTIMEZONE
END:VCALENDAR