BEGIN:VCALENDAR
VERSION:2.0
PRODID:-//wp-events-plugin.com//7.2.3.1//EN
TZID:America/Detroit
X-WR-TIMEZONE:America/Detroit
BEGIN:VEVENT
UID:35600@arabamerica.com
DTSTART;TZID=America/New_York:20251231T200000
DTEND;TZID=America/New_York:20260101T200000
DTSTAMP:20251217T042300Z
URL:https://www.arabamerica.com/events/nye-benefit-for-gaza-soup-kitchen-a
 t-busboys-and-poets-2/
SUMMARY:NYE Benefit for Gaza Soup Kitchen at Busboys and Poets
DESCRIPTION:\n\nWASHINGTON\, DC\nOverview\n\n\n\n\n\nNYE Benefit for Gaza S
 oup Kitchen. Includes food\, drinks\, DJ and entertainment with 100% of pr
 oceeds to Gaza Soup Kitchen\n\n\n\n\nJoin us for a NYE Benefit for Gaza So
 up Kitchen\, featuring a specially curated menu by renowned Palestinian au
 thor\, journalist\, and culinary storyteller Laila el-Haddad.\n\nLaila el-
 Haddad is the co-author of the acclaimed cookbook The Gaza Kitchen\, a p
 owerful celebration of Gaza’s culinary traditions and the women who keep
  them alive. Through her writing\, public speaking\, and food scholarship\
 , she brings the flavors\, stories\, and resilience of Gaza to the world 
 — making her menu for this evening especially meaningful.\n\nGaza Soup K
 itchen is a grassroots organization providing hot\, nourishing meals to f
 amilies across Gaza. Founded by Hani and Mahmoud Almadhoun\, it has grown 
 from serving 150 families a day to feeding thousands daily\, offering vege
 tarian meals such as rice\, pasta\, and traditional Gazan dishes. The orga
 nization’s mission is to combat food insecurity and support the dignity 
 and wellbeing of communities facing extreme hardship.\n\nWhen: Wednesday\,
  December 31\, 2025 | 8 PM – 1 AM\n\nWhere: Busboys and Poets 14th &amp\
 ; V\n\n2021 14th St NW\, Washington\, DC 20009\n\nRing in the New Year wit
 h an unforgettable evening of food\, drinks\, DJ\, and live entertainment 
 — all included with your $50 donation.\n\nEnjoy an open buffet\, non-alc
 oholic beverages\, and a special midnight toast to welcome 2026!\n\nWhy th
 is night matters:\n\n 	100% of every ticket goes directly to Gaza Soup Kit
 chen.\n 	Your participation directly supports their life-saving work while
  honoring the culture and cuisine Laila el-Haddad so beautifully uplifts.\
 n\n\n\n\n\n
ATTACH;FMTTYPE=image/jpeg:https://www.arabamerica.com/wp-content/uploads/2
 015/04/busboys-and-poets.jpg
CATEGORIES:#arabic
LOCATION:Busboys and Poets\, 2021 14th St NW\, Washington\, DC\, United Sta
 tes
GEO:38.91799200000001;-77.03186299999999
X-APPLE-STRUCTURED-LOCATION;VALUE=URI;X-ADDRESS=2021 14th St NW\, Washingto
 n\, DC\, United States;X-APPLE-RADIUS=100;X-TITLE=Busboys and Poets:geo:38
 .91799200000001,-77.03186299999999
END:VEVENT
BEGIN:VTIMEZONE
TZID:America/New_York
X-LIC-LOCATION:America/New_York
BEGIN:STANDARD
DTSTART:20251102T010000
TZOFFSETFROM:-0400
TZOFFSETTO:-0500
TZNAME:EST
END:STANDARD
END:VTIMEZONE
END:VCALENDAR