BEGIN:VCALENDAR
VERSION:2.0
PRODID:-//wp-events-plugin.com//7.2.3.1//EN
TZID:America/Detroit
X-WR-TIMEZONE:America/Detroit
BEGIN:VEVENT
UID:35017@arabamerica.com
DTSTART;TZID=America/Detroit:20250921T160000
DTEND;TZID=America/Detroit:20250921T190000
DTSTAMP:20250820T032608Z
URL:https://www.arabamerica.com/events/nyu-muslims-teach/
SUMMARY:NYU Muslims Teach
DESCRIPTION:As Muslim educators\, we carry not only the responsibility of t
 eaching but also the deep\, spiritual duty to nurture\, protect\, and upli
 ft our students. This gathering is a space for us to come together\, breat
 he\, and build with one another. It’s for those of us who believe that e
 mpathy belongs in every lesson plan\, that our faith calls us to care deep
 ly\, and that our classrooms can be places of peace and resistance at the 
 same time.\n\nThis event is about building genuine community among muslim 
 educators\, especially those who often feel alone in navigating their role
 s. It’s also a space to hold what's happening around the world\, especia
 lly in Gaza\, Sudan\, and to the Uyghur Muslims\, with compassion and acti
 on. We'll be raising money in support of these communities\, while also no
 urishing our spirits with food\, reflection\, and dua.\n\nCome if you're l
 ooking for connection. Come if you’re tired but hopeful. Come if you bel
 ieve that teaching is a form of worship. You are welcome here.\n\n“When 
 a person dies\, all their deeds end except three: a continuing charity\, b
 eneficial knowledge\, and a righteous child who prays for them.”— Sahi
 h Muslim 1631\n\nMay our work as educators live on as beneficial knowledge
 \, and may our classrooms be places where hearts and minds are healed\, no
 t just taught.
ATTACH;FMTTYPE=image/jpeg:https://www.arabamerica.com/wp-content/uploads/2
 025/08/IMG_0406-1.jpeg
LOCATION:Islamic Cultural Center of New York\, 1711 3rd Ave\, New York\, Ne
 w York\, 10029\, United States
GEO:40.7854855;-73.94858929999998
X-APPLE-STRUCTURED-LOCATION;VALUE=URI;X-ADDRESS=1711 3rd Ave\, New York\, N
 ew York\, 10029\, United States;X-APPLE-RADIUS=100;X-TITLE=Islamic Cultura
 l Center of New York:geo:40.7854855,-73.94858929999998
END:VEVENT
BEGIN:VTIMEZONE
TZID:America/Detroit
X-LIC-LOCATION:America/Detroit
BEGIN:DAYLIGHT
DTSTART:20250309T030000
TZOFFSETFROM:-0500
TZOFFSETTO:-0400
TZNAME:EDT
END:DAYLIGHT
END:VTIMEZONE
END:VCALENDAR