BEGIN:VCALENDAR
VERSION:2.0
PRODID:-//wp-events-plugin.com//7.2.3.1//EN
TZID:America/Detroit
X-WR-TIMEZONE:America/Detroit
BEGIN:VEVENT
UID:35204@arabamerica.com
DTSTART;TZID=America/Los_Angeles:20251011T220000
DTEND;TZID=America/Los_Angeles:20251012T020000
DTSTAMP:20251007T223224Z
URL:https://www.arabamerica.com/events/oct-11-hafla-habibi-nightclub-party
 -mountain-view/
SUMMARY:OCT 11 | HAFLA HABIBI | NIGHTCLUB PARTY | MOUNTAIN VIEW
DESCRIPTION:MOUNTAIN VIEW\, CA\n\nBay Area’s Top Nightclub Party ! Turkis
 h\, Arabic\, Persian songs\, Global Remixes &amp\; Trending TikTok mixes. 
 Hookah is available.\n\n\n\n\n\nGood to know\n\n\n\n\n\nHighlights\n\n\n\n
  	4 hours\n 	Ages 21+\n 	In person\n 	Free parking\n 	Doors at 9:45 PM\n\n
 \n\n\n\n\n\nRefund Policy\n\nNo refunds\n\n\n\n\n\n\n\n\n\n\n\n\nAbout thi
 s event\n\nOther\n\n\n\n\n\n\nThe DJs will take you on an unforgettable jo
 urney with the hottest Middle Eastern hits\, Afrohouse\, Arabic remixes\, 
 Turkish\, Arabic\, Persian \, and trending TikTok tracks. Live Darbuka and
  Tabla performances set the rhythm\, while professional belly dancers add 
 a mesmerizing\, high-energy touch. Experience the ultimate Middle Eastern 
 nightlife in style—this is a party you won’t want to miss.\n\nAge Rest
 riction: 21+ &#x1f6d1\; (Valid State-issued ID/Driver License or Passport 
 required\; no photocopies or digital IDs. Club strictly enforces this)\n\n
 Get Tickets Here\n\n\n\n\n\n\n\n\n
ATTACH;FMTTYPE=image/jpeg:https://www.arabamerica.com/wp-content/uploads/2
 025/10/Screenshot-2025-10-07-at-6.05.40-PM.png
LOCATION:Opal Social Club\, 251 Castro Street\, Mountain View\, CA\, 94041\
 , United States
GEO:37.393109;-122.079018
X-APPLE-STRUCTURED-LOCATION;VALUE=URI;X-ADDRESS=251 Castro Street\, Mountai
 n View\, CA\, 94041\, United States;X-APPLE-RADIUS=100;X-TITLE=Opal Social
  Club:geo:37.393109,-122.079018
END:VEVENT
BEGIN:VTIMEZONE
TZID:America/Los_Angeles
X-LIC-LOCATION:America/Los_Angeles
BEGIN:DAYLIGHT
DTSTART:20250309T030000
TZOFFSETFROM:-0800
TZOFFSETTO:-0700
TZNAME:PDT
END:DAYLIGHT
END:VTIMEZONE
END:VCALENDAR