BEGIN:VCALENDAR
VERSION:2.0
PRODID:-//wp-events-plugin.com//7.2.3.1//EN
TZID:America/Detroit
X-WR-TIMEZONE:America/Detroit
BEGIN:VEVENT
UID:35252@arabamerica.com
DTSTART;TZID=America/Detroit:20251017T130000
DTEND;TZID=America/Detroit:20251017T130000
DTSTAMP:20251015T001706Z
URL:https://www.arabamerica.com/events/omani-womens-day-2025-diplomacy-lea
 dership-and-education/
SUMMARY:Omani Women’s Day 2025: Diplomacy\, Leadership\, and Education
DESCRIPTION:Washington\, DC\n\nOverview\n\n\n\n\n\nJoin us at the Sultan Qa
 boos Cultural Center (SQCC) to celebrate the achievements and contribution
 s of Omani women\n\n\n\n\nOmani Women’s Day 2025: Diplomacy\, Leadership
 \, and Education\n\nVenue: Sultan Qaboos Cultural Center (SQCC)\n\nDate:
  October 17\, 2025 at 1:00 PM (Eastern Time)\n\nCelebrate Omani Women’s
  Day with us at the SQCC! Join us for a day filled with insightful discuss
 ions on diplomacy\, leadership\, and education. Let's honor the achieve
 ments of Omani women and empower each other to reach new heights. Don't mi
 ss this opportunity to be inspired and connect with like-minded individual
 s. See you there!\n\na tradition established in 2009 by the late His Majes
 ty Sultan Qaboos bin Said.\n\nThis annual occasion honors the pivotal role
  of women in Omani society and highlights their growing presence and impac
 t across fields of diplomacy\, leadership\, and education.\n\nDress code 
 : Business Casual\n\n\n\n\n\n
ATTACH;FMTTYPE=image/jpeg:https://www.arabamerica.com/wp-content/uploads/2
 025/10/Screen-Shot-2025-10-14-at-20.18.36.png
LOCATION:Sultan Qaboos Cultural Center\, 1100 16th St NW\, Washington\, Dis
 trict of Columbia\, United States
GEO:38.903943;-77.037016
X-APPLE-STRUCTURED-LOCATION;VALUE=URI;X-ADDRESS=1100 16th St NW\, Washingto
 n\, District of Columbia\, United States;X-APPLE-RADIUS=100;X-TITLE=Sultan
  Qaboos Cultural Center:geo:38.903943,-77.037016
END:VEVENT
BEGIN:VTIMEZONE
TZID:America/Detroit
X-LIC-LOCATION:America/Detroit
BEGIN:DAYLIGHT
DTSTART:20250309T030000
TZOFFSETFROM:-0500
TZOFFSETTO:-0400
TZNAME:EDT
END:DAYLIGHT
END:VTIMEZONE
END:VCALENDAR