BEGIN:VCALENDAR
VERSION:2.0
PRODID:-//wp-events-plugin.com//7.2.3.1//EN
TZID:America/Detroit
X-WR-TIMEZONE:America/Detroit
BEGIN:VEVENT
UID:35787@arabamerica.com
DTSTART;TZID=America/Detroit:20260211T180000
DTEND;TZID=America/Detroit:20260211T200000
DTSTAMP:20260131T200212Z
URL:https://www.arabamerica.com/events/omans-foreign-policy-u-s-and-oman-2
 35-years-of-friendship/
SUMMARY:Oman’s Foreign Policy: U.S. and Oman—235 Years of Friendship
DESCRIPTION:Join us as we explore the deep-rooted bond between the U.S. and
  Oman in a fascinating discussion on Oman’s Foreign Policy!
ATTACH;FMTTYPE=image/jpeg:https://www.arabamerica.com/wp-content/uploads/2
 026/01/image-12-1.webp
CATEGORIES:Foreign Policy,International Affairs,Oman,US-ARAB
LOCATION:Sultan Qaboos Cultural Center\, 1100 16th St NW\, Washington\, Dis
 trict of Columbia\, United States
GEO:38.903943;-77.037016
X-APPLE-STRUCTURED-LOCATION;VALUE=URI;X-ADDRESS=1100 16th St NW\, Washingto
 n\, District of Columbia\, United States;X-APPLE-RADIUS=100;X-TITLE=Sultan
  Qaboos Cultural Center:geo:38.903943,-77.037016
END:VEVENT
BEGIN:VTIMEZONE
TZID:America/Detroit
X-LIC-LOCATION:America/Detroit
BEGIN:STANDARD
DTSTART:20251102T010000
TZOFFSETFROM:-0400
TZOFFSETTO:-0500
TZNAME:EST
END:STANDARD
END:VTIMEZONE
END:VCALENDAR