BEGIN:VCALENDAR
VERSION:2.0
PRODID:-//wp-events-plugin.com//7.2.3.1//EN
TZID:America/Detroit
X-WR-TIMEZONE:America/Detroit
BEGIN:VEVENT
UID:35420@arabamerica.com
DTSTART;TZID=America/Detroit:20251220T190000
DTEND;TZID=America/Detroit:20251220T220000
DTSTAMP:20251118T025741Z
URL:https://www.arabamerica.com/events/omar-kurdi-friends/
SUMMARY:Omar Kurdi & Friends
DESCRIPTION:Welcome to Omar Kurdi & Friends! Join us for a night of incredi
 ble music\, comedy and good vibes at Sky Lounge Parma.
ATTACH;FMTTYPE=image/jpeg:https://www.arabamerica.com/wp-content/uploads/2
 025/11/https___cdn.evbuc_.com_images_1170888846_2156325582603_1_original.j
 pg
CATEGORIES:#comedy,Charity,charity fundraiser,Music
LOCATION:Sky Lounge Parma\, 6384 Pearl Road\, Parma Heights\, OH\, 44130\, 
 United States
GEO:41.387404;-81.767353
X-APPLE-STRUCTURED-LOCATION;VALUE=URI;X-ADDRESS=6384 Pearl Road\, Parma Hei
 ghts\, OH\, 44130\, United States;X-APPLE-RADIUS=100;X-TITLE=Sky Lounge Pa
 rma:geo:41.387404,-81.767353
END:VEVENT
BEGIN:VTIMEZONE
TZID:America/Detroit
X-LIC-LOCATION:America/Detroit
BEGIN:STANDARD
DTSTART:20251102T010000
TZOFFSETFROM:-0400
TZOFFSETTO:-0500
TZNAME:EST
END:STANDARD
END:VTIMEZONE
END:VCALENDAR