BEGIN:VCALENDAR
VERSION:2.0
PRODID:-//wp-events-plugin.com//7.2.3.1//EN
TZID:America/Detroit
X-WR-TIMEZONE:America/Detroit
BEGIN:VEVENT
UID:31610@arabamerica.com
DTSTART;TZID=America/Detroit:20230917T190000
DTEND;TZID=America/Detroit:20230917T220000
DTSTAMP:20230822T023614Z
URL:https://www.arabamerica.com/events/omar-souleyman-and-kill-alters-2/
SUMMARY:Omar Souleyman and Kill Alters
DESCRIPTION:\n\nHeadliners\n\n 	Omar Souleyman\n\nMore Performers\n\n 	Kill
  Alters\n\n\n\n\n
ATTACH;FMTTYPE=image/jpeg:https://www.arabamerica.com/wp-content/uploads/2
 023/08/https___cdn.evbuc_.com_images_563561139_571047122053_1_original-1.j
 peg
CATEGORIES:Community,culture,Discussion,Lecture,Live Event
LOCATION:Pioneer Works\, 159 Pioneer st\, Brooklyn\, NY\, 11231\, United St
 ates
GEO:40.6792933;-74.012113
X-APPLE-STRUCTURED-LOCATION;VALUE=URI;X-ADDRESS=159 Pioneer st\, Brooklyn\,
  NY\, 11231\, United States;X-APPLE-RADIUS=100;X-TITLE=Pioneer Works:geo:4
 0.6792933,-74.012113
END:VEVENT
BEGIN:VTIMEZONE
TZID:America/Detroit
X-LIC-LOCATION:America/Detroit
BEGIN:DAYLIGHT
DTSTART:20230312T030000
TZOFFSETFROM:-0500
TZOFFSETTO:-0400
TZNAME:EDT
END:DAYLIGHT
END:VTIMEZONE
END:VCALENDAR