BEGIN:VCALENDAR
VERSION:2.0
PRODID:-//wp-events-plugin.com//7.2.3.1//EN
TZID:America/Detroit
X-WR-TIMEZONE:America/Detroit
BEGIN:VEVENT
UID:32391@arabamerica.com
DTSTART;TZID=America/Detroit:20240314T180000
DTEND;TZID=America/Detroit:20240314T210000
DTSTAMP:20240305T021159Z
URL:https://www.arabamerica.com/events/one-heart-one-ummah-mwc-chicago-ift
 ar-event/
SUMMARY:One Heart. One Ummah- MWC Chicago Iftar Event
DESCRIPTION:[caption id="attachment_245822" align="alignnone" width="300"] 
 MWC Chicago Iftar Event's Promotional Image[/caption]\n\n&nbsp\;\n\nMOUNT 
 PROSPECT\, IL\n\nJoin us for a guided mediation by Dr. Imman Musa\, where 
 we will focus on intentional connection\, followed by Iftar.\n\nDr. Imman 
 Musa is a licensed clinical psychologist who is passionate about engaging 
 with the Muslim community about mental\, emotional\, and relationship heal
 th. She earned her Ph.D. in Clinical Psychology from Saint Louis Universit
 y\, where her studies and research focused on the mental health impact of 
 discrimination and stigma on American Muslims and other marginalized commu
 nities. Dr. Musa has been counseling individuals\, couples\, and families 
 in the Chicagoland area for over 5 years. She currently sees clients at he
 r solo practice\, Hikma Counseling. She is a Palestinian American and moth
 er to two toddlers.
ATTACH;FMTTYPE=image/jpeg:https://www.arabamerica.com/wp-content/uploads/2
 024/03/MWC-Chicago-Iftar-Events-Promotional-Image.png
END:VEVENT
BEGIN:VTIMEZONE
TZID:America/Detroit
X-LIC-LOCATION:America/Detroit
BEGIN:DAYLIGHT
DTSTART:20240310T030000
TZOFFSETFROM:-0500
TZOFFSETTO:-0400
TZNAME:EDT
END:DAYLIGHT
END:VTIMEZONE
END:VCALENDAR