BEGIN:VCALENDAR
VERSION:2.0
PRODID:-//wp-events-plugin.com//7.2.3.1//EN
TZID:America/Detroit
X-WR-TIMEZONE:America/Detroit
BEGIN:VEVENT
UID:35991@arabamerica.com
DTSTART;TZID=America/Detroit:20260312T190000
DTEND;TZID=America/Detroit:20260312T213000
DTSTAMP:20260306T030352Z
URL:https://www.arabamerica.com/events/one-moroccan-night-the-city-spoon-s
 upper-club-x-solo-girl-wanders-2/
SUMMARY:One Moroccan Night: The City Spoon Supper Club x Solo Girl Wanders
DESCRIPTION:Come join us for a 7-course Moroccan supper club at Marrakesh B
 YOB\, travel-loving women\, new friends & unforgettable vibes!
ATTACH;FMTTYPE=image/jpeg:https://www.arabamerica.com/wp-content/uploads/2
 026/03/image-41.webp
CATEGORIES:Cuisine,Cultural event,Dinner
LOCATION:Marrakesh\, 517 South Leithgow Street\, Philadelphia\, PA\, 19147\
 , United States
GEO:39.942042;-75.149472
X-APPLE-STRUCTURED-LOCATION;VALUE=URI;X-ADDRESS=517 South Leithgow Street\,
  Philadelphia\, PA\, 19147\, United States;X-APPLE-RADIUS=100;X-TITLE=Marr
 akesh:geo:39.942042,-75.149472
END:VEVENT
BEGIN:VTIMEZONE
TZID:America/Detroit
X-LIC-LOCATION:America/Detroit
BEGIN:DAYLIGHT
DTSTART:20260308T030000
TZOFFSETFROM:-0500
TZOFFSETTO:-0400
TZNAME:EDT
END:DAYLIGHT
END:VTIMEZONE
END:VCALENDAR