BEGIN:VCALENDAR
VERSION:2.0
PRODID:-//wp-events-plugin.com//7.2.3.1//EN
TZID:America/Detroit
X-WR-TIMEZONE:America/Detroit
BEGIN:VEVENT
UID:36134@arabamerica.com
DTSTART;TZID=America/Detroit:20260402T180000
DTEND;TZID=America/Detroit:20260402T200000
DTSTAMP:20260401T185417Z
URL:https://www.arabamerica.com/events/opening-art-reception/
SUMMARY:OPENING ART RECEPTION
DESCRIPTION:CANTON\, MI\n\n2026 Art Exhibits \n\nApril:  The Arab America
 n Artist Group\nReception: Thursday\, April 2\, 6-8 p.m.\nExhibit Dates:
   3/31/26 – 5/1/26\n\n&nbsp\;\n\nhttps://www.cantonmi.gov/481/Current-G
 allery-Exhibit\n\n&nbsp\;
ATTACH;FMTTYPE=image/jpeg:https://www.arabamerica.com/wp-content/uploads/2
 026/04/Screenshot-2026-04-01-at-2.47.10-PM.png
LOCATION:50400 Cherry Hill Road\, 50400 Cherry Hill Road\, Canton\, MI\, 48
 187\, United States
GEO:42.306545;-83.535522
X-APPLE-STRUCTURED-LOCATION;VALUE=URI;X-ADDRESS=50400 Cherry Hill Road\, Ca
 nton\, MI\, 48187\, United States;X-APPLE-RADIUS=100;X-TITLE=50400 Cherry 
 Hill Road:geo:42.306545,-83.535522
END:VEVENT
BEGIN:VTIMEZONE
TZID:America/Detroit
X-LIC-LOCATION:America/Detroit
BEGIN:DAYLIGHT
DTSTART:20260308T030000
TZOFFSETFROM:-0500
TZOFFSETTO:-0400
TZNAME:EDT
END:DAYLIGHT
END:VTIMEZONE
END:VCALENDAR