BEGIN:VCALENDAR
VERSION:2.0
PRODID:-//wp-events-plugin.com//7.2.3.1//EN
TZID:America/Detroit
X-WR-TIMEZONE:America/Detroit
BEGIN:VEVENT
UID:35193@arabamerica.com
DTSTART;TZID=America/Detroit:20251031T183000
DTEND;TZID=America/Detroit:20251031T213000
DTSTAMP:20251006T203220Z
URL:https://www.arabamerica.com/events/opening-closing-ceremonies-of-egypt
 ian-american-film-festival-eaff/
SUMMARY:Opening & Closing ceremonies of (Egyptian American Film Festival) 
 “EAFF”
DESCRIPTION:STATEN ISLAND\, NY\n\n\n\n\n\nEgyptian American Film Festival 
 “EAFF”\n\n(For Cinema and Arts)\n\nThe Opening Ceremony of the Fifth e
 dition\n\nOn Friday \, Oct 31st\, 2025\n\nThe Closing Ceremony of the Fift
 h edition\n\nOn Sunday \, Nov 2nd\, 2025\n\nEgyptian American Film Festiva
 l “EAFF”\n\n(For Cinema and Arts)\n\nIt will be held from Oct 31st - N
 ov 4th in NY\, NJ and TN with the participation of more than 102 countries
  and with films of up to 3000 films\, including feature films\, short fict
 ion\, documentary\, mobile cinema and student projects.\n\nThe festival wi
 ll be attended by a number of Egyptian movie stars and artists from the Ar
 ab world.\n\nThis year\, the festival honors the most prominent artistic p
 ersonalities\, who will be a surprise by all standards.\n\nThe Founder and
  President of the\n\nEgyptian American Film Festival “EAFF”\n\nAuthor 
 and Journalist Dr. ”Safwot Yousef”\n\nhttps://linktr.ee/EAFFest\n\nThe
  festival program includes presentations of distinguished films from sever
 al countries\n\nAs well as artistic performs for the best talents in US th
 at were discovered by the Supreme Committee of the festival.\n\n\n\n\n\n\n
 \n\n\n\n\n\n\n\n\n\n
ATTACH;FMTTYPE=image/jpeg:https://www.arabamerica.com/wp-content/uploads/2
 025/10/https-cdn.evbuc_.com-images-1134616163-217400951061-1-original.2025
 0924-231339.jpeg
LOCATION:Center for the Arts\, 2800 Victory Boulevard #1P-116 \, Staten Isl
 and \, NY\, 10314\, United States
GEO:40.600874;-74.151719
X-APPLE-STRUCTURED-LOCATION;VALUE=URI;X-ADDRESS=2800 Victory Boulevard #1P-
 116 \, Staten Island \, NY\, 10314\, United States;X-APPLE-RADIUS=100;X-TI
 TLE=Center for the Arts:geo:40.600874,-74.151719
END:VEVENT
BEGIN:VTIMEZONE
TZID:America/Detroit
X-LIC-LOCATION:America/Detroit
BEGIN:DAYLIGHT
DTSTART:20250309T030000
TZOFFSETFROM:-0500
TZOFFSETTO:-0400
TZNAME:EDT
END:DAYLIGHT
END:VTIMEZONE
END:VCALENDAR