BEGIN:VCALENDAR
VERSION:2.0
PRODID:-//wp-events-plugin.com//7.2.3.1//EN
TZID:America/Detroit
X-WR-TIMEZONE:America/Detroit
BEGIN:VEVENT
UID:35254@arabamerica.com
DTSTART;TZID=America/New_York:20251113T180000
DTEND;TZID=America/New_York:20251113T200000
DTSTAMP:20251015T004854Z
URL:https://www.arabamerica.com/events/opening-reception-of-stories-my-fat
 her-told-me-by-helen-zghaib/
SUMMARY:Opening Reception of “Stories My Father Told Me” by Helen Zghai
 b
DESCRIPTION:PHILADELPHIA\, PA\n\n&nbsp\;\n\nJoin Al-Bustan Seeds of Culture
  Gallery for the opening reception of "Stories My Father Told Me" by Helen
  Zghaib.\n\nAbout this event\n\nArts • Fine Art\n\n\n\n\n\n\nIn every fa
 mily\, there is a storyteller\, a hakawati\, who holds the power to turn m
 emory into legacy. For the Helen Zghaib and their siblings\, that storytel
 ler was their father. Each evening\, as the clatter of dinner faded\, his 
 voice would rise to fill the room: “Let me tell you a story.” What fol
 lowed were tales of his childhood in Damascus\, his youth in Lebanon\, and
  the moments that eventually led him to immigrate to America in 1946.\n\nT
 he twenty-five paintings in this exhibition correspond to twenty-five of h
 is stories. They capture scenes of village life\, lessons in morality\, an
 d the rhythms of family\, tradition\, and migration. Through these works\,
  the artist weaves together personal and collective memory. Their father
 ’s past\, their own childhood\, and the broader Lebanese and Syrian heri
 tage that shapes both.\n\nThough rooted in one family’s narrative\, thes
 e paintings speak to something universal: the way stories connect us acros
 s time and place. They invite viewers to recall their own storytellers\, t
 o hear echoes of familiar voices\, and to find themselves within the share
 d fabric of memory and belonging.\n\nGet tickets here\n\n\n\n\n\n
LOCATION:Al-Bustan Seeds of Culture\, 310 Master Street \, Philadelphia \, 
 PA\, 19122\, United States
GEO:39.972437;-75.141019
X-APPLE-STRUCTURED-LOCATION;VALUE=URI;X-ADDRESS=310 Master Street \, Philad
 elphia \, PA\, 19122\, United States;X-APPLE-RADIUS=100;X-TITLE=Al-Bustan 
 Seeds of Culture:geo:39.972437,-75.141019
END:VEVENT
BEGIN:VTIMEZONE
TZID:America/New_York
X-LIC-LOCATION:America/New_York
BEGIN:STANDARD
DTSTART:20251102T010000
TZOFFSETFROM:-0400
TZOFFSETTO:-0500
TZNAME:EST
END:STANDARD
END:VTIMEZONE
END:VCALENDAR