BEGIN:VCALENDAR
VERSION:2.0
PRODID:-//wp-events-plugin.com//7.2.3.1//EN
TZID:America/Detroit
X-WR-TIMEZONE:America/Detroit
BEGIN:VEVENT
UID:32799@arabamerica.com
DTSTART;TZID=America/Detroit:20240518T190000
DTEND;TZID=America/Detroit:20240518T220000
DTSTAMP:20240507T044518Z
URL:https://www.arabamerica.com/events/orientale-belly-dance-and-middle-ea
 stern-music/
SUMMARY:ORIENTALE: Belly Dance and Middle Eastern Music!
DESCRIPTION:CO. Welcome to ORIENTALE: Belly Dance and Middle Eastern Music
 ! Join us at Gypsy House Cafe on South Broadway in Denver\, CO\, USA fo
 r a night filled with mesmerizing performances. Experience the art of bell
 y dancing and immerse yourself in the enchanting melodies of Middle Easter
 n music. Let the rhythms transport you to a world of vibrant colors and ex
 otic sounds. Don't miss out on this unique event that celebrates the beaut
 y of Oriental culture!
ATTACH;FMTTYPE=image/jpeg:https://www.arabamerica.com/wp-content/uploads/2
 024/05/Screenshot-2024-05-07-at-12.45.03-AM.png
LOCATION:Gypsy House Cafe\, 1545 South Broadway\, Denver \, CO\, United Sta
 tes
GEO:39.688582;-104.987923
X-APPLE-STRUCTURED-LOCATION;VALUE=URI;X-ADDRESS=1545 South Broadway\, Denve
 r \, CO\, United States;X-APPLE-RADIUS=100;X-TITLE=Gypsy House Cafe:geo:39
 .688582,-104.987923
END:VEVENT
BEGIN:VTIMEZONE
TZID:America/Detroit
X-LIC-LOCATION:America/Detroit
BEGIN:DAYLIGHT
DTSTART:20240310T030000
TZOFFSETFROM:-0500
TZOFFSETTO:-0400
TZNAME:EDT
END:DAYLIGHT
END:VTIMEZONE
END:VCALENDAR