BEGIN:VCALENDAR
VERSION:2.0
PRODID:-//wp-events-plugin.com//7.2.3.1//EN
TZID:America/Detroit
X-WR-TIMEZONE:America/Detroit
BEGIN:VEVENT
UID:32412@arabamerica.com
DTSTART;TZID=America/Detroit:20240321T120000
DTEND;TZID=America/Detroit:20240321T130000
DTSTAMP:20240307T131319Z
URL:https://www.arabamerica.com/events/origins-and-outcomes-of-u-s-defense
 -policy-toward-israel/
SUMMARY:Origins and Outcomes of U.S. Defense Policy Toward Israel
DESCRIPTION:&nbsp\;\n\n[caption id="attachment_246055" align="alignnone" wi
 dth="197"] Origins and Outcomes of U.S Defense Policy Toward Israel Confer
 ence promotional poster[/caption]\n\n&nbsp\;\n\nNEWARK\, NEW JERSEY AND ZO
 OM ( REMOTE)\n\nThe United States describes its commitment to support Isra
 el as “iron clad” to the extent that our nation is providing diplomati
 c and military support while Israel conducts what the ICJ has described as
  a “plausible genocide” in Gaza. Former U.S. State Department official
 \, Josh Paul\, will examine how U.S. security and defense policy undermine
 s American interests abroad and its most fundamental values at home.
ATTACH;FMTTYPE=image/jpeg:https://www.arabamerica.com/wp-content/uploads/2
 024/03/Origins-and-Outcomes-of-U.S-Defense-Policy-Toward-Israel-promotiona
 l-poster-.png
LOCATION:Rutgers Law School Center for Law and Justice\, Baker Courtroom\, 
 123 Washington Street Baker Courtroom Room 125 \, Newark\, United States
GEO:40.7406438;-74.17312600000002
X-APPLE-STRUCTURED-LOCATION;VALUE=URI;X-ADDRESS=123 Washington Street Baker
  Courtroom Room 125 \, Newark\, United States;X-APPLE-RADIUS=100;X-TITLE=R
 utgers Law School Center for Law and Justice\, Baker Courtroom:geo:40.7406
 438,-74.17312600000002
END:VEVENT
BEGIN:VTIMEZONE
TZID:America/Detroit
X-LIC-LOCATION:America/Detroit
BEGIN:DAYLIGHT
DTSTART:20240310T030000
TZOFFSETFROM:-0500
TZOFFSETTO:-0400
TZNAME:EDT
END:DAYLIGHT
END:VTIMEZONE
END:VCALENDAR