BEGIN:VCALENDAR
VERSION:2.0
PRODID:-//wp-events-plugin.com//7.2.3.1//EN
TZID:America/Detroit
X-WR-TIMEZONE:America/Detroit
BEGIN:VEVENT
UID:34814@arabamerica.com
DTSTART;TZID=America/Detroit:20250819T173000
DTEND;TZID=America/Detroit:20251202T183000
DTSTAMP:20250728T202349Z
URL:https://www.arabamerica.com/events/oud-classes/
SUMMARY:Oud Classes
DESCRIPTION:ATLANTA\, GEORGIA\n\n\nDescription\n2025 Fall Session\n\n\n 	15
  Sessions\, 15 hours of instruction\n 	Tuesdays\, August 19 – December 2
 :\n\n 	August 19\, 26\n 	September 2\, 9\, 16\, 23\, 30\n 	October 7\, 14\
 , 21\, 28\n 	November 4\, 11\, 18\n 	December 2\n\n\n 	In person at Alif I
 nstitute (Chamblee)\n 	Levels: \n\n 	Beginner I:\nTuesdays\, from 5:30 pm
  – 6:30 pm\, in-person at Alif Institute.\n 	Beginner II:\nTuesdays\, fr
 om 6:30 pm – 7:30 pm\, in-person at Alif Institute.\n\n\n 	Intermediate:
 \nTuesdays\, from 7:30 pm – 8:30 pm\, in-person at Alif Institute.\n\n\n
  	Drop-in/trial class only if spaces are available.  Please EMAIL us or c
 all 700-936-8770.\n 	PLEASE NOTE:\n\n 	There are no refunds after the firs
 t class of the session. \n 	There are no make-ups for missed classes.\n\n\
 n\n&nbsp\;\n\n 	OPTIONAL Oud rental: $65 for two sessions plus a refundabl
 e $150 security deposit. Please EMAIL for more information.\n 	To become 
 a member\, please click HERE. (Please note that you are not required to 
 become a member to register for the club\, but you must be signed into the
  website as a member to get the member’s price.)\n 	If you have any ques
 tions or issues with registration\, please contact us at info@alifinstitut
 e.org.\n 	Please note: There are no refunds after the first class of the s
 ession and no make-ups for missed classes.\n
ATTACH;FMTTYPE=image/jpeg:https://www.arabamerica.com/wp-content/uploads/2
 025/07/OUD_ig.jpg
LOCATION:Alif Institute\, 3288 Marjan Dr.\,\, Atlanta\, 30340\, United Stat
 es
GEO:33.884774;-84.26457399999998
X-APPLE-STRUCTURED-LOCATION;VALUE=URI;X-ADDRESS=3288 Marjan Dr.\,\, Atlanta
 \, 30340\, United States;X-APPLE-RADIUS=100;X-TITLE=Alif Institute:geo:33.
 884774,-84.26457399999998
END:VEVENT
BEGIN:VTIMEZONE
TZID:America/Detroit
X-LIC-LOCATION:America/Detroit
BEGIN:DAYLIGHT
DTSTART:20250309T030000
TZOFFSETFROM:-0500
TZOFFSETTO:-0400
TZNAME:EDT
END:DAYLIGHT
BEGIN:STANDARD
DTSTART:20251102T010000
TZOFFSETFROM:-0400
TZOFFSETTO:-0500
TZNAME:EST
END:STANDARD
END:VTIMEZONE
END:VCALENDAR