BEGIN:VCALENDAR
VERSION:2.0
PRODID:-//wp-events-plugin.com//7.2.3.1//EN
TZID:America/Detroit
X-WR-TIMEZONE:America/Detroit
BEGIN:VEVENT
UID:33246@arabamerica.com
DTSTART;TZID=America/Detroit:20240802T110000
DTEND;TZID=America/Detroit:20240803T210000
DTSTAMP:20240722T160919Z
URL:https://www.arabamerica.com/events/our-lady-of-the-cedars-lebanese-fes
 tival/
SUMMARY:Our Lady of the Cedars Lebanese Festival
DESCRIPTION:FAIRLAWN\, OH\n\nWe’ve reached the HALFWAY MARK in our 100-da
 y countdown!!There’s now ONLY 50 DAYS until the Annual Lebanese Festival
  at Our Lady of the Cedars in Fairlawn!! August 2nd &amp\; 3rd will be her
 e before you can say “Falafel!”
ATTACH;FMTTYPE=image/jpeg:https://www.arabamerica.com/wp-content/uploads/2
 024/07/temp-49.jpg
LOCATION:507 S. Cleveland-Massillon Rd.\, 507 S. Cleveland-Massillon Road\,
  Fairlawn\, Ohio\, 44333-3019\, United States
GEO:41.123152;-81.635445
X-APPLE-STRUCTURED-LOCATION;VALUE=URI;X-ADDRESS=507 S. Cleveland-Massillon 
 Road\, Fairlawn\, Ohio\, 44333-3019\, United States;X-APPLE-RADIUS=100;X-T
 ITLE=507 S. Cleveland-Massillon Rd.:geo:41.123152,-81.635445
END:VEVENT
BEGIN:VTIMEZONE
TZID:America/Detroit
X-LIC-LOCATION:America/Detroit
BEGIN:DAYLIGHT
DTSTART:20240310T030000
TZOFFSETFROM:-0500
TZOFFSETTO:-0400
TZNAME:EDT
END:DAYLIGHT
END:VTIMEZONE
END:VCALENDAR