BEGIN:VCALENDAR
VERSION:2.0
PRODID:-//wp-events-plugin.com//7.2.3.1//EN
TZID:America/Detroit
X-WR-TIMEZONE:America/Detroit
BEGIN:VEVENT
UID:34008@arabamerica.com
DTSTART;TZID=America/Detroit:20250123T100000
DTEND;TZID=America/Detroit:20250123T113000
DTSTAMP:20250122T003229Z
URL:https://www.arabamerica.com/events/outlook-2025-what-will-the-new-year
 -bring-for-the-gulf-region-and-u-s-gulf-relations/
SUMMARY:Outlook 2025: What Will the New Year Bring for the Gulf Region and 
 U.S.-Gulf Relations?
DESCRIPTION:ONLINE\nOn January 23\, AGSIW will host a discussion on what re
 gional trends they’ll be following most closely as the year unfolds.\n\n
 \n\nAGSIW is hosting a  virtual roundtable with its leadership and s
 cholars as they look ahead and assess trends likely to shape the Gulf regi
 on and U.S. foreign policy during the coming year.\n\n
ATTACH;FMTTYPE=image/jpeg:https://www.arabamerica.com/wp-content/uploads/2
 025/01/2025-01-12T183014Z_1664358929_RC2H8CANYWSF_RTRMADP_3_SYRIA-SECURITY
 -SAUDI-MEETING-scaled-1.webp
END:VEVENT
BEGIN:VTIMEZONE
TZID:America/Detroit
X-LIC-LOCATION:America/Detroit
BEGIN:STANDARD
DTSTART:20241103T010000
TZOFFSETFROM:-0400
TZOFFSETTO:-0500
TZNAME:EST
END:STANDARD
END:VTIMEZONE
END:VCALENDAR