BEGIN:VCALENDAR
VERSION:2.0
PRODID:-//wp-events-plugin.com//7.2.3.1//EN
TZID:America/Detroit
X-WR-TIMEZONE:America/Detroit
BEGIN:VEVENT
UID:32386@arabamerica.com
DTSTART;TZID=America/Detroit:20240316T180000
DTEND;TZID=America/Detroit:20240316T203000
DTSTAMP:20240304T203440Z
URL:https://www.arabamerica.com/events/pack-iftar/
SUMMARY:Pack Iftar
DESCRIPTION:[caption id="attachment_245806" align="alignnone" width="300"] 
 Pack Iftar's promotional image[/caption]\n\n&nbsp\;\n\nWILLOWBROOK\, IL\n\
 nWhat: Pack Iftar\n\nWhen: Saturday\, March 16th\n\nWhere: Mecca Center Ca
 feteria (Basement)\n\nTime: 6:00 pm\n\nCost: $10 (age 5-10)\, $20 (age 11+
 )\, age 4 and under Free
ATTACH;FMTTYPE=image/jpeg:https://www.arabamerica.com/wp-content/uploads/2
 024/03/Pack-Iftar-promotional-image.png
LOCATION:Mecca Center Cafeteria (Basement)\, 16W560 91st Street \, Willowbr
 ook\, Illinois \, 60527\, United States
GEO:41.724115;-87.947955
X-APPLE-STRUCTURED-LOCATION;VALUE=URI;X-ADDRESS=16W560 91st Street \, Willo
 wbrook\, Illinois \, 60527\, United States;X-APPLE-RADIUS=100;X-TITLE=Mecc
 a Center Cafeteria (Basement):geo:41.724115,-87.947955
END:VEVENT
BEGIN:VTIMEZONE
TZID:America/Detroit
X-LIC-LOCATION:America/Detroit
BEGIN:DAYLIGHT
DTSTART:20240310T030000
TZOFFSETFROM:-0500
TZOFFSETTO:-0400
TZNAME:EDT
END:DAYLIGHT
END:VTIMEZONE
END:VCALENDAR