BEGIN:VCALENDAR
VERSION:2.0
PRODID:-//wp-events-plugin.com//7.2.3.1//EN
TZID:America/Detroit
X-WR-TIMEZONE:America/Detroit
BEGIN:VEVENT
UID:33918@arabamerica.com
DTSTART;TZID=America/Detroit:20250125T190000
DTEND;TZID=America/Detroit:20250125T220000
DTSTAMP:20250107T052606Z
URL:https://www.arabamerica.com/events/pack-party-palestine/
SUMMARY:Pack\, Party\, Palestine!
DESCRIPTION:WASHINGTON\, DC\n&nbsp\;\n\nJoin us for a night of mutual aid a
 s we pack 1\,000 Care Kits to distribute across DC with EC4DC. 100% of the
  proceeds from the tickets (minus tax) will be donated half to DC's Aborti
 on Fund (DCAF)\, and half to the Middle East Children’s Alliance (MECA).
  Each care kit contains a dose of Plan B\, condoms\, our zines\, and pregn
 ancy tests. After our care kit packing party\, we will have a DJ set from 
 8-10pm to finish off our night with DJ B1te Back! Come see why there ain
 ’t no party like a mutual aid party!\n\nDONATE TO OUR FUNDRAISER HERE!\n
 \nAdditionally\, As You Are. DC will be creating a special cocktail for th
 e event\, the proceeds of which will be donated to DCAF and MECA!\n\nHoste
 d by the Bodily Autonomy and Internationalism Working Groups of Metro DC D
 SA. If you’re unable to purchase a ticket for any reason and would like 
 to attend\, please reach out to us at bawg@mdcdsa.org and we will waive yo
 ur ticket fee and add you to the list.\n\nCheck out our linktree to learn 
 more about us or get invovled! linktr.ee/bawg_mdcdsa\n\nIf you have any qu
 estions\, please reach out at bawg@mdcdsa.org
ATTACH;FMTTYPE=image/jpeg:https://www.arabamerica.com/wp-content/uploads/2
 025/01/https-cdn.evbuc_.com-images-911462023-2531059993131-1-original.2024
 1204-144512.jpeg
LOCATION:As You Are DC\, 500 8th Street Southeast\, Washington\, DC\, Distr
 ict of Columbia\, 20003\, United States
GEO:38.882579;-76.994705
X-APPLE-STRUCTURED-LOCATION;VALUE=URI;X-ADDRESS=500 8th Street Southeast\, 
 Washington\, DC\, District of Columbia\, 20003\, United States;X-APPLE-RAD
 IUS=100;X-TITLE=As You Are DC:geo:38.882579,-76.994705
END:VEVENT
BEGIN:VTIMEZONE
TZID:America/Detroit
X-LIC-LOCATION:America/Detroit
BEGIN:STANDARD
DTSTART:20241103T010000
TZOFFSETFROM:-0400
TZOFFSETTO:-0500
TZNAME:EST
END:STANDARD
END:VTIMEZONE
END:VCALENDAR