BEGIN:VCALENDAR
VERSION:2.0
PRODID:-//wp-events-plugin.com//7.2.3.1//EN
TZID:America/Detroit
X-WR-TIMEZONE:America/Detroit
BEGIN:VEVENT
UID:32934@arabamerica.com
DTSTART;TZID=America/Detroit:20240602T130000
DTEND;TZID=America/Detroit:20240602T160000
DTSTAMP:20240531T132948Z
URL:https://www.arabamerica.com/events/paint-for-sudan-an-afternoon-of-art
 -solidarity/
SUMMARY:Paint for Sudan: An Afternoon of Art & Solidarity
DESCRIPTION:\n\nCome join us for an afternoon of painting\, food and compan
 y to show solidarity with Sudan on Sunday\, June 2nd at 1:00 PM!
LOCATION:ICNA Nassau Community Center\, 1529 Jericho Tpke\, New Hyde Park\,
  New York\, 11040\, United States
GEO:40.734176;-73.67892599999999
X-APPLE-STRUCTURED-LOCATION;VALUE=URI;X-ADDRESS=1529 Jericho Tpke\, New Hyd
 e Park\, New York\, 11040\, United States;X-APPLE-RADIUS=100;X-TITLE=ICNA 
 Nassau Community Center:geo:40.734176,-73.67892599999999
END:VEVENT
BEGIN:VTIMEZONE
TZID:America/Detroit
X-LIC-LOCATION:America/Detroit
BEGIN:DAYLIGHT
DTSTART:20240310T030000
TZOFFSETFROM:-0500
TZOFFSETTO:-0400
TZNAME:EDT
END:DAYLIGHT
END:VTIMEZONE
END:VCALENDAR