BEGIN:VCALENDAR
VERSION:2.0
PRODID:-//wp-events-plugin.com//7.2.3.1//EN
TZID:America/Detroit
X-WR-TIMEZONE:America/Detroit
BEGIN:VEVENT
UID:35884@arabamerica.com
DTSTART;TZID=America/Los_Angeles:20260228T140000
DTEND;TZID=America/Los_Angeles:20260228T170000
DTSTAMP:20260217T212535Z
URL:https://www.arabamerica.com/events/palestine-101-public-screening-bay-
 area-2/
SUMMARY:Palestine 101 Public Screening (Bay Area)
DESCRIPTION:Berkeley\, CA\n\n&nbsp\;\n\n\n\nJoin us for a screening of Pale
 stine 101 for Kids\, where you'll learn about the history\, resistance\, a
 nd national culture of Palestine.\n\n\n\n\n\n\nCome join us at The David B
 rower Center for a special event showcasing three select modules of Pales
 tine 101 History for Kids\, a 12-module video-based curriculum for youth.
 \n\nThis curriculum explores the History\, Resistance\, National Culture\,
  and Global Context of Palestine\, offering an engaging and accessible way
  to learn beyond the traditional classroom.\n\nAt this event\, we’ll scr
 een three modules and host a panel discussion with the expert instructors 
 featured in each module. Whether you are deeply familiar with the topic or
  just beginning to explore it\, this is an opportunity to gain insight and
  ask questions about one of the most important struggles for liberation in
  our lifetime.\n\n\n
ATTACH;FMTTYPE=image/jpeg:https://www.arabamerica.com/wp-content/uploads/2
 026/02/image-11-2.webp
LOCATION:David Brower Center\, 2150 Allston Way  Berkeley\, CA 94704\, Berk
 eley\, United States
GEO:37.8694391;-122.26644880000003
X-APPLE-STRUCTURED-LOCATION;VALUE=URI;X-ADDRESS=2150 Allston Way  Berkeley\
 , CA 94704\, Berkeley\, United States;X-APPLE-RADIUS=100;X-TITLE=David Bro
 wer Center:geo:37.8694391,-122.26644880000003
END:VEVENT
BEGIN:VTIMEZONE
TZID:America/Los_Angeles
X-LIC-LOCATION:America/Los_Angeles
BEGIN:STANDARD
DTSTART:20251102T010000
TZOFFSETFROM:-0700
TZOFFSETTO:-0800
TZNAME:PST
END:STANDARD
END:VTIMEZONE
END:VCALENDAR