BEGIN:VCALENDAR
VERSION:2.0
PRODID:-//wp-events-plugin.com//7.2.3.1//EN
TZID:America/Detroit
X-WR-TIMEZONE:America/Detroit
BEGIN:VEVENT
UID:31788@arabamerica.com
DTSTART;TZID=America/Detroit:20231023T181000
DTEND;TZID=America/Detroit:20231023T181000
DTSTAMP:20231017T155221Z
URL:https://www.arabamerica.com/events/palestine-and-the-logic-of-denial/
SUMMARY:Palestine and the Logic of Denial
DESCRIPTION:\n\nJoin the Center for Palestine Studies and the Society of Fe
 llows and Heyman Center for the Humanities for a talk by Saree Makdisi abo
 ut his recent book\, Tolerance Is a Wasteland: Palestine and the Culture o
 f Denial (University of California Press\, 2022). Introduction by Nadia Ab
 u El-Haj.\n\nThe question that Tolerance Is a Wasteland aims to answer mig
 ht seem simple: how can a violent project of dispossession and discriminat
 ion be imagined\, felt\, and profoundly believed in as though it were the 
 exact opposite––an embodiment of sustainability\, multicultural tolera
 nce\, and democratic idealism? Despite well-documented evidence of racism 
 and human rights abuse\, Israel has long been embraced by the most liberal
  sectors of European and American society as a manifestation of the progre
 ssive values of tolerance\, plurality\, inclusivity\, and democracy\, and 
 hence a project that can be passionately defended for its lofty ideals.\n\
 nFor more info about Tolerance Is a Wasteland\, click here.\n\nSaree Makdi
 si is Professor of English and Comparative Literature at UCLA. His most re
 cent book is Tolerance Is a Wasteland: Palestine and the Culture of Denial
  (2022). His other books include Reading William Blake (2015)\, Making Eng
 land Western: Occidentalism\, Race and Imperial Culture (2014)\; and Pales
 tine Inside Out: An Everyday Occupation (2010).\n\nNadia Abu El-Haj is Ann
  Whitney Olin Professor in the Departments of Anthropology at Barnard Coll
 ege and Columbia University and Co-Director of the Center for Palestine St
 udies.\n\nNotes about the Venue\n\nThe Heyman Center is located in the Eas
 t Campus Residential Facility. Please allow extra time if you are attendin
 g an event and have not visited before.\n\nIf you wish to use Google Maps 
 to help you navigate to the Heyman Center\, please search for Ancel Plaza 
 and use the map above to find your way.\n\nPlease note that access to East
  Campus and the Heyman Center is controlled by a guard and advanced regist
 ration for this event is required.\n\nClick here for a printable PDF downl
 oad of the map.
ATTACH;FMTTYPE=image/jpeg:https://www.arabamerica.com/wp-content/uploads/2
 023/10/https-cdn.evbuc_.com-images-606939139-269316929712-1-original.20230
 926-191342.jpeg
CATEGORIES:Book Discussion,Book
 Talk,Books,Books/Literature,Palestine,Palestinian,Palestinian
 Culture,Palestinian Stories
LOCATION:Heyman Center for the Humanities\, 74 Morningside Dr\, New York\, 
 New York\, United States
GEO:40.807326;-73.958831
X-APPLE-STRUCTURED-LOCATION;VALUE=URI;X-ADDRESS=74 Morningside Dr\, New Yor
 k\, New York\, United States;X-APPLE-RADIUS=100;X-TITLE=Heyman Center for 
 the Humanities:geo:40.807326,-73.958831
END:VEVENT
BEGIN:VTIMEZONE
TZID:America/Detroit
X-LIC-LOCATION:America/Detroit
BEGIN:DAYLIGHT
DTSTART:20230312T030000
TZOFFSETFROM:-0500
TZOFFSETTO:-0400
TZNAME:EDT
END:DAYLIGHT
END:VTIMEZONE
END:VCALENDAR