BEGIN:VCALENDAR
VERSION:2.0
PRODID:-//wp-events-plugin.com//7.2.3.1//EN
TZID:America/Detroit
X-WR-TIMEZONE:America/Detroit
BEGIN:VEVENT
UID:35881@arabamerica.com
DTSTART;TZID=America/Detroit:20260306T173000
DTEND;TZID=America/Detroit:20260306T203000
DTSTAMP:20260217T181751Z
URL:https://www.arabamerica.com/events/palestine-benefit-iftar-fundraiser-
 2/
SUMMARY:Palestine Benefit Iftar Fundraiser
DESCRIPTION:Vienna\, VA\n\n\n\nJoin Hanan Relief Group for a Palestine Bene
 fit Iftar with Sam Rasoul\, Fri March 6\, Vienna Community Center. Proceed
 s aid Palestine.\n\n\n\n\n\n\nHanan Relief Group invites the community to 
 a Palestine Benefit Iftar Fundraiser\, bringing people together for an eve
 ning of reflection\, solidarity\, and giving. The program features keynote
  speaker Sam Rasoul and MC Ihsan Atta\, and will take place on Friday\, Ma
 rch 6th\, from 5:00–8:30 PM at the Vienna Community Center. Proceeds wil
 l support humanitarian relief for Palestine.\n\nDuring the Ramadan Iftar F
 undraiser\, a designated prayer leader will lead Maghrib\, and Isha prayer
 s for the community.\n\n\n
ATTACH;FMTTYPE=image/jpeg:https://www.arabamerica.com/wp-content/uploads/2
 026/02/image-8-2.webp
LOCATION:Vienna Community Center\, 120 Cherry Street\, S.E.\, Vienna\, Virg
 inia\, 22180\, United States
GEO:38.900611;-77.26010300000002
X-APPLE-STRUCTURED-LOCATION;VALUE=URI;X-ADDRESS=120 Cherry Street\, S.E.\, 
 Vienna\, Virginia\, 22180\, United States;X-APPLE-RADIUS=100;X-TITLE=Vienn
 a Community Center:geo:38.900611,-77.26010300000002
END:VEVENT
BEGIN:VTIMEZONE
TZID:America/Detroit
X-LIC-LOCATION:America/Detroit
BEGIN:STANDARD
DTSTART:20251102T010000
TZOFFSETFROM:-0400
TZOFFSETTO:-0500
TZNAME:EST
END:STANDARD
END:VTIMEZONE
END:VCALENDAR