BEGIN:VCALENDAR
VERSION:2.0
PRODID:-//wp-events-plugin.com//7.2.3.1//EN
TZID:America/Detroit
X-WR-TIMEZONE:America/Detroit
BEGIN:VEVENT
UID:35319@arabamerica.com
DTSTART;TZID=America/New_York:20251102T173000
DTEND;TZID=America/New_York:20251102T193000
DTSTAMP:20251028T191318Z
URL:https://www.arabamerica.com/events/palestine-cinema-days-the-yard-bye-
 bye-tiberias/
SUMMARY:Palestine Cinema Days @ The Yard: Bye Bye Tiberias
DESCRIPTION:About the Film:\n\nIn her early twenties\, Hiam Abbass (Emmy-no
 minated for Succession) left her native Palestinian village to follow her 
 dream of becoming an actress in Europe\, leaving behind her mother\, grand
 mother\, and seven sisters. Thirty years later\, her filmmaker daughter Li
 na returns with her to the village and questions for the first time her mo
 ther’s bold choices\, her chosen exile and the way the women in their fa
 mily influenced both their lives. Set between past and present\, Bye Bye 
 Tiberias pieces together images of today\, family footage from the nineti
 es and historical archives to portray four generations of daring Palestini
 an women who keep their story and legacy alive through the strength of the
 ir bonds\, despite exile\, dispossession\, and heartbreak.\n\nPalestine’
 s entry for Best International Feature in the 2024 Academy Awards\, this s
 econd feature from Lina Soualem premiered at Venice\, won the Grierson Awa
 rd at the BFI London Film Festival\, had its North American Premiere at th
 e Toronto International Film Festival\, and won the shared jury prize at t
 he Marrakech International Film Festival. An important film that beautiful
 ly portrays the complexity of Arab women’s lives.\n\nThis is a free comm
 unity screening made possible by Aflamuna and in cooperation with the Beac
 on 2025 Taproots Festival.
ATTACH;FMTTYPE=image/jpeg:https://www.arabamerica.com/wp-content/uploads/2
 025/10/https___cdn.evbuc_.com_images_1148000953_60491296607_1_original.jpe
 g
LOCATION:The Yard\, 4 Hanna Lane\, Beacon\, NY\, 12508\, United States
GEO:41.506183;-73.960893
X-APPLE-STRUCTURED-LOCATION;VALUE=URI;X-ADDRESS=4 Hanna Lane\, Beacon\, NY\
 , 12508\, United States;X-APPLE-RADIUS=100;X-TITLE=The Yard:geo:41.506183,
 -73.960893
END:VEVENT
BEGIN:VTIMEZONE
TZID:America/New_York
X-LIC-LOCATION:America/New_York
BEGIN:STANDARD
DTSTART:20251102T010000
TZOFFSETFROM:-0400
TZOFFSETTO:-0500
TZNAME:EST
END:STANDARD
END:VTIMEZONE
END:VCALENDAR