BEGIN:VCALENDAR
VERSION:2.0
PRODID:-//wp-events-plugin.com//7.2.3.1//EN
TZID:America/Detroit
X-WR-TIMEZONE:America/Detroit
BEGIN:VEVENT
UID:35051@arabamerica.com
DTSTART;TZID=America/Detroit:20250927T050000
DTEND;TZID=America/Detroit:20250927T090000
DTSTAMP:20250901T200127Z
URL:https://www.arabamerica.com/events/palestine-cinema-night-at-the-frida
 -water-as-freedom/
SUMMARY:Palestine Cinema Night at the Frida: Water as Freedom
DESCRIPTION:SANTA ANA\, CA\n\n\n\nThe Arab women's surf collectives of Sout
 hern California\, Banat El Waves (بنات الويڤز) and PaliSurferChi
 cks\, are proud to present a night of Palestinian cinema with a focus on w
 ater as a symbol of freedom. We are raising funds for families in Gaza who
 se origins are of coastal/water/surf culture. 100.00% of our proceeds are 
 going to them. This event is co-sponsored by Palestinian Youth Movement of
  OC/LA/IE.\n\n&nbsp\;\n\nEach ticket costs a minimum $50. Additional donat
 ions will be accepted and encouraged at the event.\n\n&nbsp\;\n\nYour tick
 et includes:\n\n 	a seat for both short program and feature presentation\n
  	1 free popcorn\n 	Palestinian bites at intermission by Chamya\n\nEvent P
 rogram &amp\; Schedule:\n\n5:15pm - DOORS OPEN\n\n5:45pm - Shorts Program 
 Start\n\n 	A Short Film About Kids by Ibrahim Handal (2023\, Palestine)\n 
 	WALK by Dina El Dessouky (2025\, USA)\n 	The Sea is Ours by Banna Bazzari
 e (2025\, USA)\n 	Don't Be Long\, Little Bird by Reem Jubran (2025\, Pales
 tine/USA)\n\n6:30pm - 7:00pm - Intermission + Bites\n\n7:00pm - Feature Pr
 esentation of GAZA SURF CLUB by Philip Gnadt and Mickey Yamine (2016\, Pal
 estine)\n\n 	Followed by a Q&amp\;A with protagonist Ibrahim Arafat\n\n&nb
 sp\;\n\nFREE PALESTINE AND SAVE GAZA\n\nPoster design by Prairie Trivuth\n
 \n&nbsp\;\n\n&nbsp\;\n\n\n\n\n\n\n\n\n\n\n\n\n\n\n\n\n\n\n\n\nThe Frida Ci
 nema is located at 305 E 4th Street\, Santa Ana CA 92701.\n\nYour best opt
 ion for parking is the City of Santa Ana’s four-story parking structure\
 , which is located directly behind The Frida. The structure can be accesse
 d off of 5th Street by turning south into the parking gate (between Bush a
 nd French Street)\, or off of 4th Street by turning north on Spurgeon Stre
 et\, after which you head directly into the lot.\n\nNOTE: 5th Street is a 
 one-way street. Be mindful of one-way street signs.\n\nWe do not validate 
 for the City of Santa Ana’s lot. The City’s rates are:\n\nFirst Hour 
 – FreeFirst 30 minutes – $.75Every Hour Thereafter: $1.50/hr\n\nParkin
 g is free Mondays – Fridays from 7am – 5pm. First Two Hours Free on Sa
 turday and Sunday evenings.\n\n\n
ATTACH;FMTTYPE=image/jpeg:https://www.arabamerica.com/wp-content/uploads/2
 025/09/WAT.jpeg
LOCATION:The Frida Cinema\, 305 East 4th Street #100\, Santa Ana\, CA\, 927
 01\, United States
GEO:33.7482522;-117.86541399999999
X-APPLE-STRUCTURED-LOCATION;VALUE=URI;X-ADDRESS=305 East 4th Street #100\, 
 Santa Ana\, CA\, 92701\, United States;X-APPLE-RADIUS=100;X-TITLE=The Frid
 a Cinema:geo:33.7482522,-117.86541399999999
END:VEVENT
BEGIN:VTIMEZONE
TZID:America/Detroit
X-LIC-LOCATION:America/Detroit
BEGIN:DAYLIGHT
DTSTART:20250309T030000
TZOFFSETFROM:-0500
TZOFFSETTO:-0400
TZNAME:EDT
END:DAYLIGHT
END:VTIMEZONE
END:VCALENDAR