BEGIN:VCALENDAR
VERSION:2.0
PRODID:-//wp-events-plugin.com//7.2.3.1//EN
TZID:America/Detroit
X-WR-TIMEZONE:America/Detroit
BEGIN:VEVENT
UID:34406@arabamerica.com
DTSTART;TZID=America/Detroit:20250518T130000
DTEND;TZID=America/Detroit:20250518T190000
DTSTAMP:20250513T180756Z
URL:https://www.arabamerica.com/events/palestine-day-on-palestine-way/
SUMMARY:Palestine Day on Palestine Way
DESCRIPTION:PATERSON\, NJ\n\nThe Palestinian American Community Center of N
 ew Jersey is honored to announce PACC's 4th Annual Palestine Day On Palest
 ine Way: A Day of Resilience and Representation\, on Sunday\, May 18th\, 
 2025 from 1 pm to 7 pm between Gould Ave and Dey Street.\n\nThere will be
  food\, fun\, and educational opportunities.
ATTACH;FMTTYPE=image/jpeg:https://www.arabamerica.com/wp-content/uploads/2
 025/05/Screenshot-2025-05-13-110623.png
CATEGORIES:Palestine,Palestine Day,Palestinian
LOCATION:Main St.\, Gould Ave and Dey St.\, Paterson\, NJ\, 07503\, United 
 States
GEO:40.89193;-74.159243
X-APPLE-STRUCTURED-LOCATION;VALUE=URI;X-ADDRESS=Gould Ave and Dey St.\, Pat
 erson\, NJ\, 07503\, United States;X-APPLE-RADIUS=100;X-TITLE=Main St.:geo
 :40.89193,-74.159243
END:VEVENT
BEGIN:VTIMEZONE
TZID:America/Detroit
X-LIC-LOCATION:America/Detroit
BEGIN:DAYLIGHT
DTSTART:20250309T030000
TZOFFSETFROM:-0500
TZOFFSETTO:-0400
TZNAME:EDT
END:DAYLIGHT
END:VTIMEZONE
END:VCALENDAR