BEGIN:VCALENDAR
VERSION:2.0
PRODID:-//wp-events-plugin.com//7.2.3.1//EN
TZID:America/Detroit
X-WR-TIMEZONE:America/Detroit
BEGIN:VEVENT
UID:35266@arabamerica.com
DTSTART;TZID=America/Detroit:20251103T180000
DTEND;TZID=America/Detroit:20251103T200000
DTSTAMP:20251020T121447Z
URL:https://www.arabamerica.com/events/palestine-film-series-born-in-gaza/
SUMMARY:Palestine Film Series: Born In Gaza
DESCRIPTION:KENNEWICK\, WA\n\n\n\nPalestine Film Series: Born In Gaza is a 
 must-see event showcasing the powerful documentary about life in Gaza. Joi
 n us at 424 S Washington St for a thought-provoking evening. Witness the r
 esilience and spirit of the people of Gaza through this eye-opening film. 
 Don't miss this opportunity to gain a deeper understanding of the region. 
 See you there!
ATTACH;FMTTYPE=image/jpeg:https://www.arabamerica.com/wp-content/uploads/2
 025/10/https-cdn.evbuc_.com-images-1149617443-2680929295701-1-original.202
 51010-010431.jpeg
LOCATION:424 S Washington St\, 424 South Washington Street \, Kennewick\, W
 A\, 99336\, United States
GEO:46.203647;-119.117267
X-APPLE-STRUCTURED-LOCATION;VALUE=URI;X-ADDRESS=424 South Washington Street
  \, Kennewick\, WA\, 99336\, United States;X-APPLE-RADIUS=100;X-TITLE=424 
 S Washington St:geo:46.203647,-119.117267
END:VEVENT
BEGIN:VTIMEZONE
TZID:America/Detroit
X-LIC-LOCATION:America/Detroit
BEGIN:STANDARD
DTSTART:20251102T010000
TZOFFSETFROM:-0400
TZOFFSETTO:-0500
TZNAME:EST
END:STANDARD
END:VTIMEZONE
END:VCALENDAR