BEGIN:VCALENDAR
VERSION:2.0
PRODID:-//wp-events-plugin.com//7.2.3.1//EN
TZID:America/Detroit
X-WR-TIMEZONE:America/Detroit
BEGIN:VEVENT
UID:35481@arabamerica.com
DTSTART;TZID=America/New_York:20251205T190000
DTEND;TZID=America/New_York:20251205T210000
DTSTAMP:20251125T230526Z
URL:https://www.arabamerica.com/events/palestine-in-words-music-the-massac
 husetts-review-winter-party-2/
SUMMARY:Palestine in Words & Music: The Massachusetts Review Winter Party
DESCRIPTION:\nAMHERST\, MA\n\nJoin us for an evening of Palestinian music a
 nd storytelling with award-winning novelist\, Sahar Mustafah\n\n\n\n\nHost
 ed by The Massachusetts Review\, join us for an evening of Palestinian mus
 ic and storytelling with award-winning novelist\, Sahar Mustafah\, and a p
 erformance by Layaali Arabic Music Ensemble. Refreshments and light snacks
  will be served. Free and open to the public\n\nSponsored by: UMass: Progr
 am in Comparative Literature\, Department of Languages\, Literatures\, and
  Cultures\, Department of English\; Hampshire College: In/Justice Learning
  Collaborative\; Smith College: Program for the Study of Women\, Gender\, 
 and Sexuality\, Program in World Literatures\, Music Department\; Other: T
 he Five College Consortium\; Massachusetts Review\; Interlink Publishing\;
  Interlink Foundation.\n\nREGISTER\n\n\n
LOCATION:UMass Amherst\, 157 Commonwealth Avenue\, Amherst\, MA\, 01003\, U
 nited States
GEO:42.388205;-72.53053
X-APPLE-STRUCTURED-LOCATION;VALUE=URI;X-ADDRESS=157 Commonwealth Avenue\, A
 mherst\, MA\, 01003\, United States;X-APPLE-RADIUS=100;X-TITLE=UMass Amher
 st:geo:42.388205,-72.53053
END:VEVENT
BEGIN:VTIMEZONE
TZID:America/New_York
X-LIC-LOCATION:America/New_York
BEGIN:STANDARD
DTSTART:20251102T010000
TZOFFSETFROM:-0400
TZOFFSETTO:-0500
TZNAME:EST
END:STANDARD
END:VTIMEZONE
END:VCALENDAR