BEGIN:VCALENDAR
VERSION:2.0
PRODID:-//wp-events-plugin.com//7.2.3.1//EN
TZID:America/Detroit
X-WR-TIMEZONE:America/Detroit
BEGIN:VEVENT
UID:36117@arabamerica.com
DTSTART;TZID=America/Detroit:20260327T173000
DTEND;TZID=America/Detroit:20260427T190000
DTSTAMP:20260331T215733Z
URL:https://www.arabamerica.com/events/palestine-israel-the-end-of-the-roa
 d/
SUMMARY:Palestine & Israel: The End of the Road?
DESCRIPTION:\n\n\n\n\nFBH 135\n\n\n\n\n\n\n\n\n\n\n\n\nSponsored by\nPerry 
 World House\n\n\n&nbsp\;\n\nWhile intractable conflict seems to dominate t
 he relationship between Israel and Palestine\, the 2023 attacks by Hamas a
 nd the ongoing Israeli occupation and war against the Palestinians has bro
 ught this relationship to a seemingly unavoidable brink. In the face of a 
 genocidal conflict\, is a path forward even imaginable? Join two regional 
 experts\, Dr. Shay Hazkani and Dr. Yousef Munayyer\, who will share thei
 r understanding of current Palestinian and Israeli realities\, how they ha
 ve evolved from the recent past\, and what they do and not promise for the
  future.\n\nYousef Munayyer is head of the Palestine/Israel Program and s
 enior fellow at Arab Center Washington\, D.C. He also serves as a member o
 f the editorial committee of the Journal of Palestine Studies and was prev
 iously executive director of the U.S. Campaign for Palestinian Rights. Som
 e of his published articles can be found in the New York Times\, the Washi
 ngton Post\, The Nation\, Boston Globe\, Foreign Policy\, Journal of Pales
 tine Studies\, Middle East Policy\, and others. Dr. Munayyer holds a Ph.D.
  in international relations and comparative politics from the University o
 f Maryland.\n\nShay Hazkani is Associate Professor of History and Jewish 
 Studies at the University of Maryland\, College Park. He specializes in th
 e social and cultural history of Palestine/Israel. His first book\, Dear 
 Palestine: A Social History of the 1948 War (Stanford University Press\, 
 2021)\, received the Korenblat and Azrieli-Concordia book awards and was l
 onglisted for the Cundill History Prize. Before his academic career\, he w
 orked as a journalist in Israel\, covering the occupied Palestinian territ
 ories and the Israeli military. He is currently the Penn Global Middle Eas
 t Distinguished Visiting Scholar.\n\n\n\n\n\n
ATTACH;FMTTYPE=image/jpeg:https://www.arabamerica.com/wp-content/uploads/2
 026/03/palestine-and-israel.png
CATEGORIES:Community,Discussion
LOCATION:Fisher - Bennett Hall\, 3340 Walnut Street \, Philadelphia\, PA\, 
 United States
GEO:39.9525148;-75.19172609999998
X-APPLE-STRUCTURED-LOCATION;VALUE=URI;X-ADDRESS=3340 Walnut Street \, Phila
 delphia\, PA\, United States;X-APPLE-RADIUS=100;X-TITLE=Fisher - Bennett H
 all:geo:39.9525148,-75.19172609999998
END:VEVENT
BEGIN:VTIMEZONE
TZID:America/Detroit
X-LIC-LOCATION:America/Detroit
BEGIN:DAYLIGHT
DTSTART:20260308T030000
TZOFFSETFROM:-0500
TZOFFSETTO:-0400
TZNAME:EDT
END:DAYLIGHT
END:VTIMEZONE
END:VCALENDAR