BEGIN:VCALENDAR
VERSION:2.0
PRODID:-//wp-events-plugin.com//7.2.3.1//EN
TZID:America/Detroit
X-WR-TIMEZONE:America/Detroit
BEGIN:VEVENT
UID:33312@arabamerica.com
DTSTART;TZID=America/Detroit:20240808T180000
DTEND;TZID=America/Detroit:20240808T200000
DTSTAMP:20240806T163705Z
URL:https://www.arabamerica.com/events/palestine-summer-cultural-series-pa
 lestinian-arts-culture-panel/
SUMMARY:Palestine Summer Cultural Series: Palestinian Arts & Culture Panel
DESCRIPTION:DENVER\, CO\n\n\n\nJoin us for the 5th event in our Palestine S
 ummer Cultural Series: a panel discussion with four Colorado-based Palesti
 nians working in contemporary Palestinian arts and culture!\n\nWith:\n\nNa
 dia Afifi (writer)\n\nJulia Halaby (cultural preservation)\n\nSafa Suleima
 n (writer)\n\nRoba Yusuf (fabric artist)\n\nFree and open to the public - 
 all welcome!\n\n\n
ATTACH;FMTTYPE=image/jpeg:https://www.arabamerica.com/wp-content/uploads/2
 024/08/temp-12.jpg
LOCATION:First Unitarian Society of Denver\, 1400 Lafayette Street\, Denver
 \, Colorado\, 80218\, United States
GEO:39.738748;-104.970353
X-APPLE-STRUCTURED-LOCATION;VALUE=URI;X-ADDRESS=1400 Lafayette Street\, Den
 ver\, Colorado\, 80218\, United States;X-APPLE-RADIUS=100;X-TITLE=First Un
 itarian Society of Denver:geo:39.738748,-104.970353
END:VEVENT
BEGIN:VTIMEZONE
TZID:America/Detroit
X-LIC-LOCATION:America/Detroit
BEGIN:DAYLIGHT
DTSTART:20240310T030000
TZOFFSETFROM:-0500
TZOFFSETTO:-0400
TZNAME:EDT
END:DAYLIGHT
END:VTIMEZONE
END:VCALENDAR