BEGIN:VCALENDAR
VERSION:2.0
PRODID:-//wp-events-plugin.com//7.2.3.1//EN
TZID:America/Detroit
X-WR-TIMEZONE:America/Detroit
BEGIN:VEVENT
UID:34431@arabamerica.com
DTSTART;TZID=America/Detroit:20250627T180000
DTEND;TZID=America/Detroit:20250628T213000
DTSTAMP:20250520T224125Z
URL:https://www.arabamerica.com/events/palestine-uniting-the-ummah/
SUMMARY:Palestine Uniting the Ummah
DESCRIPTION:Join us in a powerful two-day event bringing voices of faith an
 d solidarity in support of brothers and sisters in Gaza and Gazan refugees
 .\n\nJune 28th (day 2) 2-6 PM EDT\n\nGet Tickets 
ATTACH;FMTTYPE=image/jpeg:https://www.arabamerica.com/wp-content/uploads/2
 025/05/Screenshot-2025-05-20-at-6.37.24-PM.png
LOCATION:Islamic Society of Greater Dayton\, 730 S Alpha Bellbrook Rd\, Day
 ton\, Ohio\, 45305\, United States
GEO:39.671619;-84.059686
X-APPLE-STRUCTURED-LOCATION;VALUE=URI;X-ADDRESS=730 S Alpha Bellbrook Rd\, 
 Dayton\, Ohio\, 45305\, United States;X-APPLE-RADIUS=100;X-TITLE=Islamic S
 ociety of Greater Dayton:geo:39.671619,-84.059686
END:VEVENT
BEGIN:VTIMEZONE
TZID:America/Detroit
X-LIC-LOCATION:America/Detroit
BEGIN:DAYLIGHT
DTSTART:20250309T030000
TZOFFSETFROM:-0500
TZOFFSETTO:-0400
TZNAME:EDT
END:DAYLIGHT
END:VTIMEZONE
END:VCALENDAR