BEGIN:VCALENDAR
VERSION:2.0
PRODID:-//wp-events-plugin.com//7.2.3.1//EN
TZID:America/Detroit
X-WR-TIMEZONE:America/Detroit
BEGIN:VEVENT
UID:35476@arabamerica.com
DTSTART;TZID=America/Los_Angeles:20251206T110000
DTEND;TZID=America/Los_Angeles:20251206T170000
DTSTAMP:20251125T222814Z
URL:https://www.arabamerica.com/events/palestine-winter-market/
SUMMARY:Palestine Winter Market
DESCRIPTION:\nSARATOGA\, CA\n\nJoin us at the Palestine Winter Market for a
  day of shopping\, food\, and fun to raise money for the Middle East Child
 ren's Alliance.\n\n\n\nThe Arab American Cultural Center invites you to th
 e 2nd annual Palestine Winter Market and fundraiser for Middle East Childr
 en’s Alliance (MECA) on Saturday\, Dec 6th\, in Saratoga!!\nShop for uni
 que gifts from and about Palestine that help families in Gaza and the West
  Bank. These include olive oil\, pottery and ceramics\, embroidery\, jewel
 ry\, olive wood products\, keffiyehs from Nablus and Hirbawi\, Tatreez sca
 rves\, Palestinian Dead Sea products\, soaps\, children’s toys and books
 \, kitchenware\, food products\, T-shirts\, thobes\, and much more.\n\nCel
 ebrate the rich culinary heritage with delicious food and coffee from loca
 l Palestinian businesses and community members.\n\nThis is a family-friend
 ly event featuring henna\, face painting and children's storytime with Waf
 a Shami\, poetry readings\, music\, and film screenings. We’ll also sell
  raffle tickets to win a beautiful\, authentic Palestinian Thobe and other
  prizes!\nSaturday\, December 6\, 2025 from 11:00am-5:00pm\nWesthoep Presb
 yterian Church\n12850 Saratoga Avenue\n\nSaratoga\, CA 95070\n\n(FREE PARK
 ING ACESS ON COX AVENUE)\n\nregister here\n\n\n
ATTACH;FMTTYPE=image/jpeg:https://www.arabamerica.com/wp-content/uploads/2
 025/11/Screenshot-2025-11-25-at-5.28.15-PM.png
LOCATION:Westhope Presbyterian Church\, 12850 Saratoga Avenue \, Saratoga\,
  CA\, 95070\, United States
GEO:37.281885;-122.001114
X-APPLE-STRUCTURED-LOCATION;VALUE=URI;X-ADDRESS=12850 Saratoga Avenue \, Sa
 ratoga\, CA\, 95070\, United States;X-APPLE-RADIUS=100;X-TITLE=Westhope Pr
 esbyterian Church:geo:37.281885,-122.001114
END:VEVENT
BEGIN:VTIMEZONE
TZID:America/Los_Angeles
X-LIC-LOCATION:America/Los_Angeles
BEGIN:STANDARD
DTSTART:20251102T010000
TZOFFSETFROM:-0700
TZOFFSETTO:-0800
TZNAME:PST
END:STANDARD
END:VTIMEZONE
END:VCALENDAR