BEGIN:VCALENDAR
VERSION:2.0
PRODID:-//wp-events-plugin.com//7.2.3.1//EN
TZID:America/Detroit
X-WR-TIMEZONE:America/Detroit
BEGIN:VEVENT
UID:36006@arabamerica.com
DTSTART:20260322T170000Z
DTEND:20260322T210000Z
DTSTAMP:20260310T233631Z
URL:https://www.arabamerica.com/events/palestinian-and-swana-vendor-market
 /
SUMMARY:Palestinian and SWANA Vendor Market
DESCRIPTION:\nOverview\n\n\n\nAs part of Solidarity month\, come hang out a
 nd discover goods from Palestinian and SWANA makers! 10% of sales will go 
 to PCRF.\n\n\n\n
ATTACH;FMTTYPE=image/jpeg:https://www.arabamerica.com/wp-content/uploads/2
 026/03/image-2.webp
LOCATION:3459 El Cajon Blvd\, 3459 El Cajon Boulevard\, San Diego\, CA\, 92
 104\, United States
GEO:32.754961;-117.118708
X-APPLE-STRUCTURED-LOCATION;VALUE=URI;X-ADDRESS=3459 El Cajon Boulevard\, S
 an Diego\, CA\, 92104\, United States;X-APPLE-RADIUS=100;X-TITLE=3459 El C
 ajon Blvd:geo:32.754961,-117.118708
END:VEVENT
END:VCALENDAR