BEGIN:VCALENDAR
VERSION:2.0
PRODID:-//wp-events-plugin.com//7.2.3.1//EN
TZID:America/Detroit
X-WR-TIMEZONE:America/Detroit
BEGIN:VEVENT
UID:34823@arabamerica.com
DTSTART;TZID=America/Detroit:20250817T130000
DTEND;TZID=America/Detroit:20250817T150000
DTSTAMP:20250729T185809Z
URL:https://www.arabamerica.com/events/palestinian-cooking-class-2/
SUMMARY:Palestinian Cooking Class
DESCRIPTION:TACOMA\, WASHINGTON\n\n&nbsp\;\n\nHello\, my name is Masar! I a
 m a Palestinian living in Tacoma and I am hoping to use my knowledge to ra
 ise some funds for Palestine! I will be donating the funds to the Sameer P
 roject.\n\nThis will be a class that teaches you how to make a Palestinian
  salata (salad) called fatoosh.\n\nPlease pay using Venmo to secure your s
 pot. The Venmo username is Masar-Cooper (phone number 253-286-8838).\n\nTh
 ere will also be some Palestinian Zaatar and other goodies for sale!
ATTACH;FMTTYPE=image/jpeg:https://www.arabamerica.com/wp-content/uploads/2
 025/07/Screenshot-2025-07-29-at-2.56.50-PM.png
LOCATION:Common Good Tacoma\, 621 Tacoma Avenue \, South Tacoma \, Washingt
 on\, 98402\, United States
GEO:47.257276;-122.445096
X-APPLE-STRUCTURED-LOCATION;VALUE=URI;X-ADDRESS=621 Tacoma Avenue \, South 
 Tacoma \, Washington\, 98402\, United States;X-APPLE-RADIUS=100;X-TITLE=Co
 mmon Good Tacoma:geo:47.257276,-122.445096
END:VEVENT
BEGIN:VTIMEZONE
TZID:America/Detroit
X-LIC-LOCATION:America/Detroit
BEGIN:DAYLIGHT
DTSTART:20250309T030000
TZOFFSETFROM:-0500
TZOFFSETTO:-0400
TZNAME:EDT
END:DAYLIGHT
END:VTIMEZONE
END:VCALENDAR