BEGIN:VCALENDAR
VERSION:2.0
PRODID:-//wp-events-plugin.com//7.2.3.1//EN
TZID:America/Detroit
X-WR-TIMEZONE:America/Detroit
BEGIN:VEVENT
UID:36225@arabamerica.com
DTSTART;TZID=America/Detroit:20260425T180000
DTEND;TZID=America/Detroit:20260425T210000
DTSTAMP:20260421T170024Z
URL:https://www.arabamerica.com/events/palestinian-cultural-resistance-fes
 tival-4/
SUMMARY:Palestinian Cultural Resistance Festival
DESCRIPTION:Cherry Street Village Seattle\, WA\nJoin us for our annual Pale
 stinian Cultural Resistance Festival!\n\n\n\n\n\nJoin us for our annual ce
 lebration of Palestinian culture\, which will feature speeches\, performan
 ces\, food and vendors!\n\nNidal Seattle\, Students for Justice in Palesti
 ne at Seattle U (SU SJP) and Students United for Palestinian Equality and 
 Return at the University of Washington (SUPER UW) are hosting their annual
  Palestinian Resistance Culturefest on April 25th\, at Cherry St. Village!
  Join us for a night of celebrating and uplifting Palestinian culture thro
 ugh performances and speeches.\n\nDoors open at 5:00pm and performances wi
 ll commence at 6:00pm. Proceeds from the event will be redistributed to mu
 tual aid in Gaza and local Palestinian organizing initiatives. Please cont
 act seattleusjp@gmail.com if you have any questions or concerns regarding 
 the event.\n\n\n
ATTACH;FMTTYPE=image/jpeg:https://www.arabamerica.com/wp-content/uploads/2
 026/04/image-66.webp
CATEGORIES:Community,culture
END:VEVENT
BEGIN:VTIMEZONE
TZID:America/Detroit
X-LIC-LOCATION:America/Detroit
BEGIN:DAYLIGHT
DTSTART:20260308T030000
TZOFFSETFROM:-0500
TZOFFSETTO:-0400
TZNAME:EDT
END:DAYLIGHT
END:VTIMEZONE
END:VCALENDAR