BEGIN:VCALENDAR
VERSION:2.0
PRODID:-//wp-events-plugin.com//7.2.3.1//EN
TZID:America/Detroit
X-WR-TIMEZONE:America/Detroit
BEGIN:VEVENT
UID:36224@arabamerica.com
DTSTART;TZID=America/Detroit:20260502T163000
DTEND;TZID=America/Detroit:20260502T183000
DTSTAMP:20260421T165356Z
URL:https://www.arabamerica.com/events/palestinian-film-showing-and-art-di
 splay-2/
SUMMARY:Palestinian Film Showing and Art Display
DESCRIPTION:Evansville\, IN\n\n\n\nExperience film\, art\, and conversation
  at a Palestinian film series in Evansville. Includes discussion\, crafts\
 , and refreshments.\n\n\n\n\n\n\nJoin us for an evening of powerful storyt
 elling through film and visual art. This free community gathering featu
 res a short film\, a discussion space\, and an exhibition of Palestine the
 med artwork and crafts. Refreshments provided.\n\nCome connect\, reflect\,
  and engage in a shared space shaped by art\, storytelling\, and community
 . All are welcome.\n\nThe Endgame\nDirectors: George Azar and Mariam Shahi
 n\nStarring: Ilan Pappe (Israeli Historian)\, Francesca Albanese (UN Speci
 al Rapporteur)\, Diana Buttu (Palestinian-Canadian Lawyer\, George Azar\, 
 Amira Jajeh\, George Azar\, Amira Jajeh\, Diana Buttu\n\nPeople &amp\; Pow
 er examines whether the forced transfer of Palestinians is Israel’s ult
 imate goal.\n\nAs soon as he came to power\, United States President Donal
 d Trump echoed calls for the Palestinians’ massive displacement outside 
 their homeland.\n\nIsrael’s war on Gaza has displaced nearly two million
  Palestinians since October 2023. And with calls by some Israeli politicia
 ns to permanently expel Palestinians from the Strip\, fear is growing of y
 et another forced population transfer. An Israeli minister has even called
  the current war the “Gaza Nakba”\, referring to the forced displaceme
 nt of Palestinians in 1948-49.\n\nMeanwhile\, in the occupied West Bank\, 
 the Israeli army and settlers are waging a less visible but equally danger
 ous shadow war. People &amp\; Power delves into the history of Palestinian
  displacement and asks whether population transfer is Israel’s ultimate 
 goal.\n\nHosted by: The Palestine Solidarity Coalition of Southern IN an
 d Bright of Evansville\nSponsored by: Immigrant Welcome and Resource Cen
 ter\, Indiana Center for Middle East Peace\, Jewish Voices for Peace Ind
 iana\, and the Student Progressive Union.\n\n\n\n\n\n
ATTACH;FMTTYPE=image/jpeg:https://www.arabamerica.com/wp-content/uploads/2
 026/04/image-65.webp
CATEGORIES:Community,culture
END:VEVENT
BEGIN:VTIMEZONE
TZID:America/Detroit
X-LIC-LOCATION:America/Detroit
BEGIN:DAYLIGHT
DTSTART:20260308T030000
TZOFFSETFROM:-0500
TZOFFSETTO:-0400
TZNAME:EDT
END:DAYLIGHT
END:VTIMEZONE
END:VCALENDAR