BEGIN:VCALENDAR
VERSION:2.0
PRODID:-//wp-events-plugin.com//7.2.3.1//EN
TZID:America/Detroit
X-WR-TIMEZONE:America/Detroit
BEGIN:VEVENT
UID:35324@arabamerica.com
DTSTART;TZID=America/Detroit:20251105T170000
DTEND;TZID=America/Detroit:20251105T190000
DTSTAMP:20251028T223454Z
URL:https://www.arabamerica.com/events/palestinian-food-and-identity-a-wor
 kshop-with-jinan-deena/
SUMMARY:Palestinian Food and Identity: A Workshop with Jinan Deena
DESCRIPTION:Join us for Palestinian Food and Identity: Preservation and Eth
 ical Consumption\, an evening of conversation with Jinan Deena
ATTACH;FMTTYPE=image/jpeg:https://www.arabamerica.com/wp-content/uploads/2
 025/10/https___cdn.evbuc_.com_images_1158867413_532343647015_1_original.jp
 g
CATEGORIES:Arab Cuisine,Food,Palestinian Cooking,Palestinian History
LOCATION:Bold Fork Books\, 3064 Mount Pleasant Street Northwest \, Washingt
 on\, DC\, 20009\, United States
GEO:38.928461;-77.0375
X-APPLE-STRUCTURED-LOCATION;VALUE=URI;X-ADDRESS=3064 Mount Pleasant Street 
 Northwest \, Washington\, DC\, 20009\, United States;X-APPLE-RADIUS=100;X-
 TITLE=Bold Fork Books:geo:38.928461,-77.0375
END:VEVENT
BEGIN:VTIMEZONE
TZID:America/Detroit
X-LIC-LOCATION:America/Detroit
BEGIN:STANDARD
DTSTART:20251102T010000
TZOFFSETFROM:-0400
TZOFFSETTO:-0500
TZNAME:EST
END:STANDARD
END:VTIMEZONE
END:VCALENDAR